BEGIN:VCALENDAR
VERSION:2.0
PRODID:-//Jo Winfield - ECPv6.15.11//NONSGML v1.0//EN
CALSCALE:GREGORIAN
METHOD:PUBLISH
X-WR-CALNAME:Jo Winfield
X-ORIGINAL-URL:http://www.jowinfield.com
X-WR-CALDESC:Events for Jo Winfield
REFRESH-INTERVAL;VALUE=DURATION:PT1H
X-Robots-Tag:noindex
X-PUBLISHED-TTL:PT1H
BEGIN:VTIMEZONE
TZID:Europe/London
BEGIN:DAYLIGHT
TZOFFSETFROM:+0000
TZOFFSETTO:+0100
TZNAME:BST
DTSTART:20240331T010000
END:DAYLIGHT
BEGIN:STANDARD
TZOFFSETFROM:+0100
TZOFFSETTO:+0000
TZNAME:GMT
DTSTART:20241027T010000
END:STANDARD
BEGIN:DAYLIGHT
TZOFFSETFROM:+0000
TZOFFSETTO:+0100
TZNAME:BST
DTSTART:20250330T010000
END:DAYLIGHT
BEGIN:STANDARD
TZOFFSETFROM:+0100
TZOFFSETTO:+0000
TZNAME:GMT
DTSTART:20251026T010000
END:STANDARD
BEGIN:DAYLIGHT
TZOFFSETFROM:+0000
TZOFFSETTO:+0100
TZNAME:BST
DTSTART:20260329T010000
END:DAYLIGHT
BEGIN:STANDARD
TZOFFSETFROM:+0100
TZOFFSETTO:+0000
TZNAME:GMT
DTSTART:20261025T010000
END:STANDARD
BEGIN:DAYLIGHT
TZOFFSETFROM:+0000
TZOFFSETTO:+0100
TZNAME:BST
DTSTART:20270328T010000
END:DAYLIGHT
BEGIN:STANDARD
TZOFFSETFROM:+0100
TZOFFSETTO:+0000
TZNAME:GMT
DTSTART:20271031T010000
END:STANDARD
BEGIN:DAYLIGHT
TZOFFSETFROM:+0000
TZOFFSETTO:+0100
TZNAME:BST
DTSTART:20280326T010000
END:DAYLIGHT
BEGIN:STANDARD
TZOFFSETFROM:+0100
TZOFFSETTO:+0000
TZNAME:GMT
DTSTART:20281029T010000
END:STANDARD
END:VTIMEZONE
BEGIN:VEVENT
DTSTART;VALUE=DATE:20251218
DTEND;VALUE=DATE:20251220
DTSTAMP:20260421T060437
CREATED:20250828T092731Z
LAST-MODIFIED:20250828T092731Z
UID:4733-1766016000-1766188799@www.jowinfield.com
SUMMARY:Hartpury University
DESCRIPTION:
URL:http://www.jowinfield.com/calendar/hartpury-university-134
END:VEVENT
BEGIN:VEVENT
DTSTART;VALUE=DATE:20260105
DTEND;VALUE=DATE:20260107
DTSTAMP:20260421T060437
CREATED:20250828T120537Z
LAST-MODIFIED:20250828T120537Z
UID:4819-1767571200-1767743999@www.jowinfield.com
SUMMARY:F&I Conference
DESCRIPTION:
URL:http://www.jowinfield.com/calendar/fi-conference
END:VEVENT
BEGIN:VEVENT
DTSTART;VALUE=DATE:20260108
DTEND;VALUE=DATE:20260110
DTSTAMP:20260421T060437
CREATED:20250828T114009Z
LAST-MODIFIED:20250828T114009Z
UID:4746-1767830400-1768003199@www.jowinfield.com
SUMMARY:Hartpury University
DESCRIPTION:
URL:http://www.jowinfield.com/calendar/hartpury-university-137
END:VEVENT
BEGIN:VEVENT
DTSTART;VALUE=DATE:20260115
DTEND;VALUE=DATE:20260117
DTSTAMP:20260421T060437
CREATED:20250828T114032Z
LAST-MODIFIED:20250828T114032Z
UID:4748-1768435200-1768607999@www.jowinfield.com
SUMMARY:Hartpury University
DESCRIPTION:
URL:http://www.jowinfield.com/calendar/hartpury-university-138
END:VEVENT
BEGIN:VEVENT
DTSTART;VALUE=DATE:20260122
DTEND;VALUE=DATE:20260124
DTSTAMP:20260421T060437
CREATED:20250828T114059Z
LAST-MODIFIED:20250828T114059Z
UID:4750-1769040000-1769212799@www.jowinfield.com
SUMMARY:Hartpury University
DESCRIPTION:
URL:http://www.jowinfield.com/calendar/hartpury-university-139
END:VEVENT
BEGIN:VEVENT
DTSTART;VALUE=DATE:20260129
DTEND;VALUE=DATE:20260131
DTSTAMP:20260421T060437
CREATED:20250828T114131Z
LAST-MODIFIED:20250828T114131Z
UID:4752-1769644800-1769817599@www.jowinfield.com
SUMMARY:Hartpury University
DESCRIPTION:
URL:http://www.jowinfield.com/calendar/hartpury-university-140
END:VEVENT
BEGIN:VEVENT
DTSTART;VALUE=DATE:20260205
DTEND;VALUE=DATE:20260207
DTSTAMP:20260421T060437
CREATED:20250828T114156Z
LAST-MODIFIED:20250828T114156Z
UID:4754-1770249600-1770422399@www.jowinfield.com
SUMMARY:Hartpury University
DESCRIPTION:
URL:http://www.jowinfield.com/calendar/hartpury-university-141
END:VEVENT
BEGIN:VEVENT
DTSTART;VALUE=DATE:20260217
DTEND;VALUE=DATE:20260219
DTSTAMP:20260421T060437
CREATED:20250828T114327Z
LAST-MODIFIED:20250828T114327Z
UID:4760-1771286400-1771459199@www.jowinfield.com
SUMMARY:Hartpury University BHS CPD Training
DESCRIPTION:
URL:http://www.jowinfield.com/calendar/hartpury-university-bhs-cpd-training
END:VEVENT
BEGIN:VEVENT
DTSTART;VALUE=DATE:20260219
DTEND;VALUE=DATE:20260221
DTSTAMP:20260421T060437
CREATED:20250828T114258Z
LAST-MODIFIED:20250828T114258Z
UID:4758-1771459200-1771631999@www.jowinfield.com
SUMMARY:Hartpury University
DESCRIPTION:
URL:http://www.jowinfield.com/calendar/hartpury-university-143
END:VEVENT
BEGIN:VEVENT
DTSTART;VALUE=DATE:20260226
DTEND;VALUE=DATE:20260228
DTSTAMP:20260421T060437
CREATED:20250828T114358Z
LAST-MODIFIED:20250828T114358Z
UID:4762-1772064000-1772236799@www.jowinfield.com
SUMMARY:Hartpury University
DESCRIPTION:
URL:http://www.jowinfield.com/calendar/hartpury-university-144
END:VEVENT
BEGIN:VEVENT
DTSTART;VALUE=DATE:20260305
DTEND;VALUE=DATE:20260307
DTSTAMP:20260421T060437
CREATED:20250828T114422Z
LAST-MODIFIED:20250828T114422Z
UID:4764-1772668800-1772841599@www.jowinfield.com
SUMMARY:Hartpury University
DESCRIPTION:
URL:http://www.jowinfield.com/calendar/hartpury-university-145
END:VEVENT
BEGIN:VEVENT
DTSTART;VALUE=DATE:20260312
DTEND;VALUE=DATE:20260314
DTSTAMP:20260421T060437
CREATED:20250828T114441Z
LAST-MODIFIED:20250828T114441Z
UID:4766-1773273600-1773446399@www.jowinfield.com
SUMMARY:Hartpury University
DESCRIPTION:
URL:http://www.jowinfield.com/calendar/hartpury-university-146
END:VEVENT
BEGIN:VEVENT
DTSTART;VALUE=DATE:20260319
DTEND;VALUE=DATE:20260321
DTSTAMP:20260421T060437
CREATED:20250828T114508Z
LAST-MODIFIED:20250828T114508Z
UID:4768-1773878400-1774051199@www.jowinfield.com
SUMMARY:Hartpury University
DESCRIPTION:
URL:http://www.jowinfield.com/calendar/hartpury-university-147
END:VEVENT
BEGIN:VEVENT
DTSTART;VALUE=DATE:20260326
DTEND;VALUE=DATE:20260328
DTSTAMP:20260421T060437
CREATED:20250828T114528Z
LAST-MODIFIED:20250828T114528Z
UID:4770-1774483200-1774655999@www.jowinfield.com
SUMMARY:Hartpury University
DESCRIPTION:
URL:http://www.jowinfield.com/calendar/hartpury-university-148
END:VEVENT
BEGIN:VEVENT
DTSTART;VALUE=DATE:20260402
DTEND;VALUE=DATE:20260404
DTSTAMP:20260421T060437
CREATED:20250828T114553Z
LAST-MODIFIED:20250828T114553Z
UID:4772-1775088000-1775260799@www.jowinfield.com
SUMMARY:Hartpury University
DESCRIPTION:
URL:http://www.jowinfield.com/calendar/hartpury-university-149
END:VEVENT
BEGIN:VEVENT
DTSTART;VALUE=DATE:20260420
DTEND;VALUE=DATE:20260423
DTSTAMP:20260421T060437
CREATED:20250828T120720Z
LAST-MODIFIED:20250828T120720Z
UID:4821-1776643200-1776902399@www.jowinfield.com
SUMMARY:Equestrian Experiences Camp: Forest Edge
DESCRIPTION:
URL:http://www.jowinfield.com/calendar/equestrian-experiences-camp-forest-edge-3
END:VEVENT
BEGIN:VEVENT
DTSTART;VALUE=DATE:20260423
DTEND;VALUE=DATE:20260425
DTSTAMP:20260421T060437
CREATED:20250828T114630Z
LAST-MODIFIED:20250828T114630Z
UID:4774-1776902400-1777075199@www.jowinfield.com
SUMMARY:Hartpury University
DESCRIPTION:
URL:http://www.jowinfield.com/calendar/hartpury-university-150
END:VEVENT
BEGIN:VEVENT
DTSTART;VALUE=DATE:20260430
DTEND;VALUE=DATE:20260502
DTSTAMP:20260421T060437
CREATED:20250828T114657Z
LAST-MODIFIED:20250828T114657Z
UID:4777-1777507200-1777679999@www.jowinfield.com
SUMMARY:Hartpury University
DESCRIPTION:
URL:http://www.jowinfield.com/calendar/hartpury-university-151
END:VEVENT
BEGIN:VEVENT
DTSTART;VALUE=DATE:20260506
DTEND;VALUE=DATE:20260509
DTSTAMP:20260421T060437
CREATED:20250828T114721Z
LAST-MODIFIED:20250828T114721Z
UID:4779-1778025600-1778284799@www.jowinfield.com
SUMMARY:Hartpury University
DESCRIPTION:
URL:http://www.jowinfield.com/calendar/hartpury-university-152
END:VEVENT
BEGIN:VEVENT
DTSTART;VALUE=DATE:20260513
DTEND;VALUE=DATE:20260516
DTSTAMP:20260421T060437
CREATED:20250828T120844Z
LAST-MODIFIED:20250828T120844Z
UID:4824-1778630400-1778889599@www.jowinfield.com
SUMMARY:Hartpury University
DESCRIPTION:
URL:http://www.jowinfield.com/calendar/hartpury-university-154
END:VEVENT
BEGIN:VEVENT
DTSTART;VALUE=DATE:20260615
DTEND;VALUE=DATE:20260618
DTSTAMP:20260421T060437
CREATED:20250828T120947Z
LAST-MODIFIED:20250828T120947Z
UID:4826-1781481600-1781740799@www.jowinfield.com
SUMMARY:Equestrian Events Camp: Forest Edge
DESCRIPTION:
URL:http://www.jowinfield.com/calendar/equestrian-events-camp-forest-edge
END:VEVENT
BEGIN:VEVENT
DTSTART;VALUE=DATE:20260707
DTEND;VALUE=DATE:20260711
DTSTAMP:20260421T060437
CREATED:20250828T121028Z
LAST-MODIFIED:20250828T121028Z
UID:4828-1783382400-1783727999@www.jowinfield.com
SUMMARY:BHS Eastern Region Camp: Forest Edge
DESCRIPTION:
URL:http://www.jowinfield.com/calendar/bhs-eastern-region-camp-forest-edge-3
END:VEVENT
BEGIN:VEVENT
DTSTART;VALUE=DATE:20270211
DTEND;VALUE=DATE:20270214
DTSTAMP:20260421T060437
CREATED:20250828T114221Z
LAST-MODIFIED:20250828T114221Z
UID:4756-1802304000-1802563199@www.jowinfield.com
SUMMARY:Hartpury University
DESCRIPTION:
URL:http://www.jowinfield.com/calendar/hartpury-university-142
END:VEVENT
END:VCALENDAR