BEGIN:VCALENDAR
VERSION:2.0
PRODID:-//Jo Winfield - ECPv6.15.11//NONSGML v1.0//EN
CALSCALE:GREGORIAN
METHOD:PUBLISH
X-WR-CALNAME:Jo Winfield
X-ORIGINAL-URL:http://www.jowinfield.com
X-WR-CALDESC:Events for Jo Winfield
REFRESH-INTERVAL;VALUE=DURATION:PT1H
X-Robots-Tag:noindex
X-PUBLISHED-TTL:PT1H
BEGIN:VTIMEZONE
TZID:Europe/London
BEGIN:DAYLIGHT
TZOFFSETFROM:+0000
TZOFFSETTO:+0100
TZNAME:BST
DTSTART:20230326T010000
END:DAYLIGHT
BEGIN:STANDARD
TZOFFSETFROM:+0100
TZOFFSETTO:+0000
TZNAME:GMT
DTSTART:20231029T010000
END:STANDARD
BEGIN:DAYLIGHT
TZOFFSETFROM:+0000
TZOFFSETTO:+0100
TZNAME:BST
DTSTART:20240331T010000
END:DAYLIGHT
BEGIN:STANDARD
TZOFFSETFROM:+0100
TZOFFSETTO:+0000
TZNAME:GMT
DTSTART:20241027T010000
END:STANDARD
BEGIN:DAYLIGHT
TZOFFSETFROM:+0000
TZOFFSETTO:+0100
TZNAME:BST
DTSTART:20250330T010000
END:DAYLIGHT
BEGIN:STANDARD
TZOFFSETFROM:+0100
TZOFFSETTO:+0000
TZNAME:GMT
DTSTART:20251026T010000
END:STANDARD
END:VTIMEZONE
BEGIN:VEVENT
DTSTART;VALUE=DATE:20240328
DTEND;VALUE=DATE:20240330
DTSTAMP:20260421T060644
CREATED:20231228T184528Z
LAST-MODIFIED:20231228T184528Z
UID:4394-1711584000-1711756799@www.jowinfield.com
SUMMARY:Hartpury University
DESCRIPTION:
URL:http://www.jowinfield.com/calendar/hartpury-university-66
LOCATION:Norfolk
END:VEVENT
BEGIN:VEVENT
DTSTART;VALUE=DATE:20240327
DTEND;VALUE=DATE:20240328
DTSTAMP:20260421T060644
CREATED:20231228T193550Z
LAST-MODIFIED:20231228T193550Z
UID:4517-1711497600-1711583999@www.jowinfield.com
SUMMARY:Hartpury University
DESCRIPTION:
URL:http://www.jowinfield.com/calendar/hartpury-university-86
LOCATION:Norfolk
END:VEVENT
BEGIN:VEVENT
DTSTART;VALUE=DATE:20240326
DTEND;VALUE=DATE:20240327
DTSTAMP:20260421T060644
CREATED:20231228T192559Z
LAST-MODIFIED:20231228T192559Z
UID:4487-1711411200-1711497599@www.jowinfield.com
SUMMARY:BHS Assessing
DESCRIPTION:
URL:http://www.jowinfield.com/calendar/bhs-assessing-71
LOCATION:Norfolk
END:VEVENT
BEGIN:VEVENT
DTSTART;VALUE=DATE:20240321
DTEND;VALUE=DATE:20240323
DTSTAMP:20260421T060644
CREATED:20231228T184502Z
LAST-MODIFIED:20231228T184502Z
UID:4392-1710979200-1711151999@www.jowinfield.com
SUMMARY:Hartpury University
DESCRIPTION:
URL:http://www.jowinfield.com/calendar/hartpury-university-65
LOCATION:Norfolk
END:VEVENT
BEGIN:VEVENT
DTSTART;TZID=Europe/London:20240320T170000
DTEND;TZID=Europe/London:20240320T200000
DTSTAMP:20260421T060644
CREATED:20231228T185643Z
LAST-MODIFIED:20231228T185643Z
UID:4438-1710954000-1710964800@www.jowinfield.com
SUMMARY:Ledbury Pony Club (LHPC) Clinic
DESCRIPTION:Moores Farm
URL:http://www.jowinfield.com/calendar/ledbury-pony-club-lhpc-clinic-3
LOCATION:Norfolk
END:VEVENT
BEGIN:VEVENT
DTSTART;VALUE=DATE:20240318
DTEND;VALUE=DATE:20240319
DTSTAMP:20260421T060644
CREATED:20231228T193222Z
LAST-MODIFIED:20231228T193222Z
UID:4511-1710720000-1710806399@www.jowinfield.com
SUMMARY:BHS Stage 4/Performance Training Clinic at Avon Riding Centre
DESCRIPTION:BHS Stage 4/Performance Training Clinic at Avon Riding Centre \nContact Jo Rawlins ‭+44 7779 888658‬ for more detail \nBHS APC CPD 6 Points
URL:http://www.jowinfield.com/calendar/bhs-stage-4-performance-training-clinic-at-avon-riding-centre
LOCATION:Norfolk
END:VEVENT
BEGIN:VEVENT
DTSTART;VALUE=DATE:20240314
DTEND;VALUE=DATE:20240316
DTSTAMP:20260421T060644
CREATED:20231228T184439Z
LAST-MODIFIED:20231228T184439Z
UID:4390-1710374400-1710547199@www.jowinfield.com
SUMMARY:Hartpury University
DESCRIPTION:
URL:http://www.jowinfield.com/calendar/hartpury-university-64
LOCATION:Norfolk
END:VEVENT
BEGIN:VEVENT
DTSTART;VALUE=DATE:20240311
DTEND;VALUE=DATE:20240312
DTSTAMP:20260421T060644
CREATED:20231228T192019Z
LAST-MODIFIED:20231228T192019Z
UID:4479-1710115200-1710201599@www.jowinfield.com
SUMMARY:Lincomb Equestrian Clinic
DESCRIPTION:Lincomb Equestrian Clinic\, a mix of flatwork\, poles and jumping\, private or semi-private sessions. \nMorning Clinic: Any Horse Any Rider. Contact Linda Anderson ‭07795 361405‬ \nAfternoon: WDRC. Contact WDRC Facebook Page / Chris Rose
URL:http://www.jowinfield.com/calendar/lincomb-equestrian-clinic-3
LOCATION:Norfolk
END:VEVENT
BEGIN:VEVENT
DTSTART;VALUE=DATE:20240307
DTEND;VALUE=DATE:20240309
DTSTAMP:20260421T060644
CREATED:20231228T184406Z
LAST-MODIFIED:20231228T184406Z
UID:4388-1709769600-1709942399@www.jowinfield.com
SUMMARY:Hartpury University
DESCRIPTION:
URL:http://www.jowinfield.com/calendar/hartpury-university-63
LOCATION:Norfolk
END:VEVENT
BEGIN:VEVENT
DTSTART;VALUE=DATE:20240229
DTEND;VALUE=DATE:20240302
DTSTAMP:20260421T060644
CREATED:20231228T184346Z
LAST-MODIFIED:20231228T184346Z
UID:4386-1709164800-1709337599@www.jowinfield.com
SUMMARY:Hartpury University
DESCRIPTION:
URL:http://www.jowinfield.com/calendar/hartpury-university-62
LOCATION:Norfolk
END:VEVENT
BEGIN:VEVENT
DTSTART;VALUE=DATE:20240227
DTEND;VALUE=DATE:20240228
DTSTAMP:20260421T060644
CREATED:20231228T192332Z
LAST-MODIFIED:20231228T192332Z
UID:4485-1708992000-1709078399@www.jowinfield.com
SUMMARY:BHS Assessing
DESCRIPTION:
URL:http://www.jowinfield.com/calendar/bhs-assessing-70
LOCATION:Norfolk
END:VEVENT
BEGIN:VEVENT
DTSTART;VALUE=DATE:20240222
DTEND;VALUE=DATE:20240224
DTSTAMP:20260421T060644
CREATED:20231228T184321Z
LAST-MODIFIED:20231228T184321Z
UID:4384-1708560000-1708732799@www.jowinfield.com
SUMMARY:Hartpury University
DESCRIPTION:
URL:http://www.jowinfield.com/calendar/hartpury-university-61
LOCATION:Norfolk
END:VEVENT
BEGIN:VEVENT
DTSTART;TZID=Europe/London:20240221T170000
DTEND;TZID=Europe/London:20240221T200000
DTSTAMP:20260421T060644
CREATED:20231228T185608Z
LAST-MODIFIED:20231228T185608Z
UID:4436-1708534800-1708545600@www.jowinfield.com
SUMMARY:Ledbury Pony Club (LHPC) Clinic
DESCRIPTION:Moores Farm
URL:http://www.jowinfield.com/calendar/ledbury-pony-club-lhpc-clinic-2
LOCATION:Norfolk
END:VEVENT
BEGIN:VEVENT
DTSTART;VALUE=DATE:20240218
DTEND;VALUE=DATE:20240222
DTSTAMP:20260421T060644
CREATED:20231228T192310Z
LAST-MODIFIED:20231228T192310Z
UID:4483-1708214400-1708559999@www.jowinfield.com
SUMMARY:IOM Clinics
DESCRIPTION:IOM Clinics\, see Jo Winfield Isle of Man Clinics (Facebook group) \nhttps://www.facebook.com/groups/1663920760540526 \n  \n 
URL:http://www.jowinfield.com/calendar/iom-clinics-2
LOCATION:Norfolk
END:VEVENT
BEGIN:VEVENT
DTSTART;VALUE=DATE:20240215
DTEND;VALUE=DATE:20240217
DTSTAMP:20260421T060644
CREATED:20231228T184303Z
LAST-MODIFIED:20231228T184303Z
UID:4382-1707955200-1708127999@www.jowinfield.com
SUMMARY:Hartpury University
DESCRIPTION:
URL:http://www.jowinfield.com/calendar/hartpury-university-60
LOCATION:Norfolk
END:VEVENT
BEGIN:VEVENT
DTSTART;VALUE=DATE:20240214
DTEND;VALUE=DATE:20240215
DTSTAMP:20260421T060644
CREATED:20231228T190818Z
LAST-MODIFIED:20231228T190818Z
UID:4463-1707868800-1707955199@www.jowinfield.com
SUMMARY:BHS Stage 4 Senior Coaching: A series of six online lectures: 7-9pm 
DESCRIPTION:BHS Stage 4 Senior Coaching: A series of six online lectures: 7-9pm \nContact Sarah Mollett at Access Equestrian accessequestrian@outlook.com \nhttps://www.accessequestrian.com \nBHS APC CPD Points available
URL:http://www.jowinfield.com/calendar/bhs-stage-4-senior-coaching-a-series-of-six-online-lectures-7-9pm-2
LOCATION:Norfolk
END:VEVENT
BEGIN:VEVENT
DTSTART;VALUE=DATE:20240213
DTEND;VALUE=DATE:20240214
DTSTAMP:20260421T060644
CREATED:20231228T191948Z
LAST-MODIFIED:20231228T191948Z
UID:4477-1707782400-1707868799@www.jowinfield.com
SUMMARY:Lincomb Equestrian Clinic
DESCRIPTION:Lincomb Equestrian Clinic\, a mix of flatwork\, poles and jumping\, private or semi-private sessions. \nMorning Clinic: Any Horse Any Rider. Contact Linda Anderson ‭07795 361405‬ \nAfternoon: WDRC. Contact WDRC Facebook Page / Chris Rose
URL:http://www.jowinfield.com/calendar/lincomb-equestrian-clinic-2
LOCATION:Norfolk
END:VEVENT
BEGIN:VEVENT
DTSTART;VALUE=DATE:20240212
DTEND;VALUE=DATE:20240213
DTSTAMP:20260421T060644
CREATED:20231228T190751Z
LAST-MODIFIED:20231228T190751Z
UID:4461-1707696000-1707782399@www.jowinfield.com
SUMMARY:BHS Stage 4 Senior Coaching: A series of six online lectures: 7-9pm 
DESCRIPTION:BHS Stage 4 Senior Coaching: A series of six online lectures: 7-9pm \nContact Sarah Mollett at Access Equestrian accessequestrian@outlook.com \nhttps://www.accessequestrian.com \nBHS APC CPD Points available
URL:http://www.jowinfield.com/calendar/bhs-stage-4-senior-coaching-a-series-of-six-online-lectures-7-9pm
LOCATION:Norfolk
END:VEVENT
BEGIN:VEVENT
DTSTART;VALUE=DATE:20240208
DTEND;VALUE=DATE:20240210
DTSTAMP:20260421T060644
CREATED:20231228T184246Z
LAST-MODIFIED:20231228T184246Z
UID:4380-1707350400-1707523199@www.jowinfield.com
SUMMARY:Hartpury University
DESCRIPTION:
URL:http://www.jowinfield.com/calendar/hartpury-university-59
LOCATION:Norfolk
END:VEVENT
BEGIN:VEVENT
DTSTART;VALUE=DATE:20240207
DTEND;VALUE=DATE:20240208
DTSTAMP:20260421T060644
CREATED:20231228T190516Z
LAST-MODIFIED:20231228T191215Z
UID:4459-1707264000-1707350399@www.jowinfield.com
SUMMARY:BHS Stage 4 Senior Coaching: A series of six online lectures: 7-9pm 
DESCRIPTION:BHS Stage 4 Senior Care – Online 7-9pm \nContact Sarah Mollett at Access Equestrian accessequestrian@outlook.com \nhttps://www.accessequestrian.com \nBHS APC CPD Points available
URL:http://www.jowinfield.com/calendar/bhs-stage-4-senior-care-online-7-9pm-9
LOCATION:Norfolk
END:VEVENT
BEGIN:VEVENT
DTSTART;VALUE=DATE:20240205
DTEND;VALUE=DATE:20240206
DTSTAMP:20260421T060644
CREATED:20231228T190452Z
LAST-MODIFIED:20231228T191232Z
UID:4457-1707091200-1707177599@www.jowinfield.com
SUMMARY:BHS Stage 4 Senior Coaching: A series of six online lectures: 7-9pm
DESCRIPTION:BHS Stage 4 Senior Care – Online 7-9pm \nContact Sarah Mollett at Access Equestrian accessequestrian@outlook.com \nhttps://www.accessequestrian.com \nBHS APC CPD Points available
URL:http://www.jowinfield.com/calendar/bhs-stage-4-senior-care-online-7-9pm-8
LOCATION:Norfolk
END:VEVENT
BEGIN:VEVENT
DTSTART;VALUE=DATE:20240201
DTEND;VALUE=DATE:20240203
DTSTAMP:20260421T060644
CREATED:20231228T184227Z
LAST-MODIFIED:20231228T184227Z
UID:4378-1706745600-1706918399@www.jowinfield.com
SUMMARY:Hartpury University
DESCRIPTION:
URL:http://www.jowinfield.com/calendar/hartpury-university-58
LOCATION:Norfolk
END:VEVENT
BEGIN:VEVENT
DTSTART;VALUE=DATE:20240131
DTEND;VALUE=DATE:20240201
DTSTAMP:20260421T060644
CREATED:20231228T190429Z
LAST-MODIFIED:20231228T191253Z
UID:4455-1706659200-1706745599@www.jowinfield.com
SUMMARY:BHS Stage 4 Senior Coaching: A series of six online lectures: 7-9pm
DESCRIPTION:BHS Stage 4 Senior Care – Online 7-9pm \nContact Sarah Mollett at Access Equestrian accessequestrian@outlook.com \nhttps://www.accessequestrian.com \nBHS APC CPD Points available
URL:http://www.jowinfield.com/calendar/bhs-stage-4-senior-care-online-7-9pm-7
LOCATION:Norfolk
END:VEVENT
BEGIN:VEVENT
DTSTART;VALUE=DATE:20240129
DTEND;VALUE=DATE:20240130
DTSTAMP:20260421T060644
CREATED:20231228T190405Z
LAST-MODIFIED:20231228T191306Z
UID:4453-1706486400-1706572799@www.jowinfield.com
SUMMARY:BHS Stage 4 Senior Coaching: A series of six online lectures: 7-9pm
DESCRIPTION:BHS Stage 4 Senior Care – Online 7-9pm \nContact Sarah Mollett at Access Equestrian accessequestrian@outlook.com \nhttps://www.accessequestrian.com \nBHS APC CPD Points available
URL:http://www.jowinfield.com/calendar/bhs-stage-4-senior-care-online-7-9pm-6
LOCATION:Norfolk
END:VEVENT
BEGIN:VEVENT
DTSTART;VALUE=DATE:20240125
DTEND;VALUE=DATE:20240127
DTSTAMP:20260421T060644
CREATED:20231228T184205Z
LAST-MODIFIED:20231228T184205Z
UID:4376-1706140800-1706313599@www.jowinfield.com
SUMMARY:Hartpury University
DESCRIPTION:
URL:http://www.jowinfield.com/calendar/hartpury-university-57
LOCATION:Norfolk
END:VEVENT
BEGIN:VEVENT
DTSTART;VALUE=DATE:20240124
DTEND;VALUE=DATE:20240125
DTSTAMP:20260421T060644
CREATED:20231228T190341Z
LAST-MODIFIED:20231228T191348Z
UID:4451-1706054400-1706140799@www.jowinfield.com
SUMMARY:BHS Stage 4 Senior Care: A series of six online lectures: 7-9pm
DESCRIPTION:BHS Stage 4 Senior Care – Online 7-9pm \nContact Sarah Mollett at Access Equestrian accessequestrian@outlook.com \nhttps://www.accessequestrian.com \nBHS APC CPD Points available
URL:http://www.jowinfield.com/calendar/bhs-stage-4-senior-care-online-7-9pm-5
LOCATION:Norfolk
END:VEVENT
BEGIN:VEVENT
DTSTART;VALUE=DATE:20240122
DTEND;VALUE=DATE:20240123
DTSTAMP:20260421T060644
CREATED:20231228T190318Z
LAST-MODIFIED:20231228T191358Z
UID:4449-1705881600-1705967999@www.jowinfield.com
SUMMARY:BHS Stage 4 Senior Care: A series of six online lectures: 7-9pm
DESCRIPTION:BHS Stage 4 Senior Care – Online 7-9pm \nContact Sarah Mollett at Access Equestrian accessequestrian@outlook.com \nhttps://www.accessequestrian.com \nBHS APC CPD Points available
URL:http://www.jowinfield.com/calendar/bhs-stage-4-senior-care-online-7-9pm-4
LOCATION:Norfolk
END:VEVENT
BEGIN:VEVENT
DTSTART;VALUE=DATE:20240118
DTEND;VALUE=DATE:20240120
DTSTAMP:20260421T060644
CREATED:20231228T184146Z
LAST-MODIFIED:20231228T184146Z
UID:4374-1705536000-1705708799@www.jowinfield.com
SUMMARY:Hartpury University
DESCRIPTION:
URL:http://www.jowinfield.com/calendar/hartpury-university-56
LOCATION:Norfolk
END:VEVENT
BEGIN:VEVENT
DTSTART;VALUE=DATE:20240117
DTEND;VALUE=DATE:20240118
DTSTAMP:20260421T060644
CREATED:20231228T190250Z
LAST-MODIFIED:20231228T191412Z
UID:4447-1705449600-1705535999@www.jowinfield.com
SUMMARY:BHS Stage 4 Senior Care: A series of six online lectures: 7-9pm
DESCRIPTION:BHS Stage 4 Senior Care – Online 7-9pm \nContact Sarah Mollett at Access Equestrian accessequestrian@outlook.com \nhttps://www.accessequestrian.com \nBHS APC CPD Points available
URL:http://www.jowinfield.com/calendar/bhs-stage-4-senior-care-online-7-9pm-3
LOCATION:Norfolk
END:VEVENT
BEGIN:VEVENT
DTSTART;VALUE=DATE:20240116
DTEND;VALUE=DATE:20240117
DTSTAMP:20260421T060644
CREATED:20231228T191906Z
LAST-MODIFIED:20231228T191906Z
UID:4475-1705363200-1705449599@www.jowinfield.com
SUMMARY:Lincomb Equestrian Clinic
DESCRIPTION:Lincomb Equestrian Clinic\, a mix of flatwork\, poles and jumping\, private or semi-private sessions. \nMorning Clinic: Any Horse Any Rider. Contact Linda Anderson ‭07795 361405‬ \nAfternoon: WDRC. Contact WDRC Facebook Page / Chris Rose
URL:http://www.jowinfield.com/calendar/lincomb-equestrian-clinic
LOCATION:Norfolk
END:VEVENT
END:VCALENDAR