BEGIN:VCALENDAR
VERSION:2.0
PRODID:-//Jo Winfield - ECPv6.15.11//NONSGML v1.0//EN
CALSCALE:GREGORIAN
METHOD:PUBLISH
X-WR-CALNAME:Jo Winfield
X-ORIGINAL-URL:http://www.jowinfield.com
X-WR-CALDESC:Events for Jo Winfield
REFRESH-INTERVAL;VALUE=DURATION:PT1H
X-Robots-Tag:noindex
X-PUBLISHED-TTL:PT1H
BEGIN:VTIMEZONE
TZID:Europe/London
BEGIN:DAYLIGHT
TZOFFSETFROM:+0000
TZOFFSETTO:+0100
TZNAME:BST
DTSTART:20230326T010000
END:DAYLIGHT
BEGIN:STANDARD
TZOFFSETFROM:+0100
TZOFFSETTO:+0000
TZNAME:GMT
DTSTART:20231029T010000
END:STANDARD
BEGIN:DAYLIGHT
TZOFFSETFROM:+0000
TZOFFSETTO:+0100
TZNAME:BST
DTSTART:20240331T010000
END:DAYLIGHT
BEGIN:STANDARD
TZOFFSETFROM:+0100
TZOFFSETTO:+0000
TZNAME:GMT
DTSTART:20241027T010000
END:STANDARD
BEGIN:DAYLIGHT
TZOFFSETFROM:+0000
TZOFFSETTO:+0100
TZNAME:BST
DTSTART:20250330T010000
END:DAYLIGHT
BEGIN:STANDARD
TZOFFSETFROM:+0100
TZOFFSETTO:+0000
TZNAME:GMT
DTSTART:20251026T010000
END:STANDARD
END:VTIMEZONE
BEGIN:VEVENT
DTSTART;VALUE=DATE:20240725
DTEND;VALUE=DATE:20240727
DTSTAMP:20260420T220435
CREATED:20231228T185104Z
LAST-MODIFIED:20231228T185104Z
UID:4422-1721865600-1722038399@www.jowinfield.com
SUMMARY:Hartpury University
DESCRIPTION:
URL:http://www.jowinfield.com/calendar/hartpury-university-80
END:VEVENT
BEGIN:VEVENT
DTSTART;VALUE=DATE:20240722
DTEND;VALUE=DATE:20240723
DTSTAMP:20260420T220435
CREATED:20231228T192753Z
LAST-MODIFIED:20231228T192753Z
UID:4497-1721606400-1721692799@www.jowinfield.com
SUMMARY:BHS Assessing
DESCRIPTION:
URL:http://www.jowinfield.com/calendar/bhs-assessing-76
END:VEVENT
BEGIN:VEVENT
DTSTART;VALUE=DATE:20240717
DTEND;VALUE=DATE:20240720
DTSTAMP:20260420T220435
CREATED:20231228T194558Z
LAST-MODIFIED:20231228T194558Z
UID:4530-1721174400-1721433599@www.jowinfield.com
SUMMARY:Riding and Training Camp @Forest Edge Arena  Contact Janet Wilson janjwilson@yahoo.com for details 
DESCRIPTION:Riding and Training Camp @Forest Edge Arena \nContact Janet Wilson janjwilson@yahoo.com for details
URL:http://www.jowinfield.com/calendar/riding-and-training-camp-forest-edge-arena-contact-janet-wilson-janjwilsonyahoo-com-for-details
END:VEVENT
BEGIN:VEVENT
DTSTART;VALUE=DATE:20240716
DTEND;VALUE=DATE:20240717
DTSTAMP:20260420T220435
CREATED:20231228T195101Z
LAST-MODIFIED:20231228T195101Z
UID:4540-1721088000-1721174399@www.jowinfield.com
SUMMARY:Suffolk Clinic
DESCRIPTION:Suffolk Clinic \nContact Caroline Burgess for details ‭+44 7972 267120‬
URL:http://www.jowinfield.com/calendar/suffolk-clinic
END:VEVENT
BEGIN:VEVENT
DTSTART;VALUE=DATE:20240711
DTEND;VALUE=DATE:20240713
DTSTAMP:20260420T220435
CREATED:20231228T185037Z
LAST-MODIFIED:20231228T185037Z
UID:4420-1720656000-1720828799@www.jowinfield.com
SUMMARY:Hartpury University
DESCRIPTION:
URL:http://www.jowinfield.com/calendar/hartpury-university-79
END:VEVENT
BEGIN:VEVENT
DTSTART;VALUE=DATE:20240706
DTEND;VALUE=DATE:20240708
DTSTAMP:20260420T220435
CREATED:20231228T194907Z
LAST-MODIFIED:20231228T194907Z
UID:4538-1720224000-1720396799@www.jowinfield.com
SUMMARY:LHPC Tetrathlon
DESCRIPTION:
URL:http://www.jowinfield.com/calendar/lhpc-tetrathlon-2
END:VEVENT
BEGIN:VEVENT
DTSTART;VALUE=DATE:20240704
DTEND;VALUE=DATE:20240706
DTSTAMP:20260420T220435
CREATED:20231228T185014Z
LAST-MODIFIED:20231228T185014Z
UID:4418-1720051200-1720223999@www.jowinfield.com
SUMMARY:Hartpury University
DESCRIPTION:
URL:http://www.jowinfield.com/calendar/hartpury-university-78
END:VEVENT
BEGIN:VEVENT
DTSTART;VALUE=DATE:20240629
DTEND;VALUE=DATE:20240701
DTSTAMP:20260420T220435
CREATED:20231228T194843Z
LAST-MODIFIED:20231228T194843Z
UID:4536-1719619200-1719791999@www.jowinfield.com
SUMMARY:LHPC Tetrathlon
DESCRIPTION:
URL:http://www.jowinfield.com/calendar/lhpc-tetrathlon
END:VEVENT
BEGIN:VEVENT
DTSTART;VALUE=DATE:20240627
DTEND;VALUE=DATE:20240629
DTSTAMP:20260420T220435
CREATED:20231228T184951Z
LAST-MODIFIED:20231228T184951Z
UID:4416-1719446400-1719619199@www.jowinfield.com
SUMMARY:Hartpury University
DESCRIPTION:
URL:http://www.jowinfield.com/calendar/hartpury-university-77
END:VEVENT
BEGIN:VEVENT
DTSTART;VALUE=DATE:20240620
DTEND;VALUE=DATE:20240622
DTSTAMP:20260420T220435
CREATED:20231228T184927Z
LAST-MODIFIED:20231228T184927Z
UID:4414-1718841600-1719014399@www.jowinfield.com
SUMMARY:Hartpury University
DESCRIPTION:
URL:http://www.jowinfield.com/calendar/hartpury-university-76
END:VEVENT
BEGIN:VEVENT
DTSTART;VALUE=DATE:20240618
DTEND;VALUE=DATE:20240619
DTSTAMP:20260420T220436
CREATED:20231228T192732Z
LAST-MODIFIED:20231228T192732Z
UID:4495-1718668800-1718755199@www.jowinfield.com
SUMMARY:BHS Assessing
DESCRIPTION:
URL:http://www.jowinfield.com/calendar/bhs-assessing-75
END:VEVENT
BEGIN:VEVENT
DTSTART;VALUE=DATE:20240613
DTEND;VALUE=DATE:20240615
DTSTAMP:20260420T220436
CREATED:20231228T184905Z
LAST-MODIFIED:20231228T184905Z
UID:4412-1718236800-1718409599@www.jowinfield.com
SUMMARY:Hartpury University
DESCRIPTION:
URL:http://www.jowinfield.com/calendar/hartpury-university-75
END:VEVENT
BEGIN:VEVENT
DTSTART;VALUE=DATE:20240606
DTEND;VALUE=DATE:20240608
DTSTAMP:20260420T220436
CREATED:20231228T184840Z
LAST-MODIFIED:20231228T184840Z
UID:4410-1717632000-1717804799@www.jowinfield.com
SUMMARY:Hartpury University
DESCRIPTION:
URL:http://www.jowinfield.com/calendar/hartpury-university-74
END:VEVENT
BEGIN:VEVENT
DTSTART;VALUE=DATE:20240605
DTEND;VALUE=DATE:20240606
DTSTAMP:20260420T220436
CREATED:20231228T192710Z
LAST-MODIFIED:20231228T192710Z
UID:4493-1717545600-1717631999@www.jowinfield.com
SUMMARY:BHS Assessing
DESCRIPTION:
URL:http://www.jowinfield.com/calendar/bhs-assessing-74
END:VEVENT
BEGIN:VEVENT
DTSTART;VALUE=DATE:20240530
DTEND;VALUE=DATE:20240601
DTSTAMP:20260420T220436
CREATED:20231228T184815Z
LAST-MODIFIED:20231228T184815Z
UID:4408-1717027200-1717199999@www.jowinfield.com
SUMMARY:Hartpury University
DESCRIPTION:
URL:http://www.jowinfield.com/calendar/hartpury-university-73
END:VEVENT
BEGIN:VEVENT
DTSTART;VALUE=DATE:20240529
DTEND;VALUE=DATE:20240531
DTSTAMP:20260420T220436
CREATED:20231228T194736Z
LAST-MODIFIED:20231228T194736Z
UID:4534-1716940800-1717113599@www.jowinfield.com
SUMMARY:Somerford Camp TWRC
DESCRIPTION:
URL:http://www.jowinfield.com/calendar/somerford-camp-twrc
END:VEVENT
BEGIN:VEVENT
DTSTART;VALUE=DATE:20240524
DTEND;VALUE=DATE:20240527
DTSTAMP:20260420T220436
CREATED:20231228T195345Z
LAST-MODIFIED:20231228T195345Z
UID:4546-1716508800-1716767999@www.jowinfield.com
SUMMARY:WDRC Camp @Unicorn Centre
DESCRIPTION:
URL:http://www.jowinfield.com/calendar/wdrc-camp-unicorn-centre
END:VEVENT
BEGIN:VEVENT
DTSTART;VALUE=DATE:20240523
DTEND;VALUE=DATE:20240525
DTSTAMP:20260420T220436
CREATED:20231228T184752Z
LAST-MODIFIED:20231228T184752Z
UID:4406-1716422400-1716595199@www.jowinfield.com
SUMMARY:Hartpury University
DESCRIPTION:
URL:http://www.jowinfield.com/calendar/hartpury-university-72
END:VEVENT
BEGIN:VEVENT
DTSTART;VALUE=DATE:20240522
DTEND;VALUE=DATE:20240523
DTSTAMP:20260420T220436
CREATED:20231228T192647Z
LAST-MODIFIED:20231228T192647Z
UID:4491-1716336000-1716422399@www.jowinfield.com
SUMMARY:BHS Assessing
DESCRIPTION:
URL:http://www.jowinfield.com/calendar/bhs-assessing-73
END:VEVENT
BEGIN:VEVENT
DTSTART;VALUE=DATE:20240520
DTEND;VALUE=DATE:20240521
DTSTAMP:20260420T220436
CREATED:20231228T193258Z
LAST-MODIFIED:20231228T193258Z
UID:4513-1716163200-1716249599@www.jowinfield.com
SUMMARY:BHS Stage 4/Performance Training Clinic at Avon Riding Centre
DESCRIPTION:BHS Stage 4/Performance Training Clinic at Avon Riding Centre \nContact Jo Rawlins ‭+44 7779 888658‬ for more detail \nBHS APC CPD 6 Points
URL:http://www.jowinfield.com/calendar/bhs-stage-4-performance-training-clinic-at-avon-riding-centre-2
END:VEVENT
BEGIN:VEVENT
DTSTART;VALUE=DATE:20240516
DTEND;VALUE=DATE:20240518
DTSTAMP:20260420T220436
CREATED:20231228T184729Z
LAST-MODIFIED:20231228T184729Z
UID:4404-1715817600-1715990399@www.jowinfield.com
SUMMARY:Hartpury University
DESCRIPTION:
URL:http://www.jowinfield.com/calendar/hartpury-university-71
END:VEVENT
BEGIN:VEVENT
DTSTART;VALUE=DATE:20240509
DTEND;VALUE=DATE:20240511
DTSTAMP:20260420T220436
CREATED:20231228T184708Z
LAST-MODIFIED:20231228T184708Z
UID:4402-1715212800-1715385599@www.jowinfield.com
SUMMARY:Hartpury University
DESCRIPTION:
URL:http://www.jowinfield.com/calendar/hartpury-university-70
END:VEVENT
BEGIN:VEVENT
DTSTART;VALUE=DATE:20240507
DTEND;VALUE=DATE:20240508
DTSTAMP:20260420T220436
CREATED:20231228T192624Z
LAST-MODIFIED:20231228T192624Z
UID:4489-1715040000-1715126399@www.jowinfield.com
SUMMARY:BHS Assessing
DESCRIPTION:
URL:http://www.jowinfield.com/calendar/bhs-assessing-72
END:VEVENT
BEGIN:VEVENT
DTSTART;VALUE=DATE:20240502
DTEND;VALUE=DATE:20240504
DTSTAMP:20260420T220436
CREATED:20231228T184638Z
LAST-MODIFIED:20231228T184638Z
UID:4400-1714608000-1714780799@www.jowinfield.com
SUMMARY:Hartpury University
DESCRIPTION:
URL:http://www.jowinfield.com/calendar/hartpury-university-69
END:VEVENT
BEGIN:VEVENT
DTSTART;VALUE=DATE:20240425
DTEND;VALUE=DATE:20240427
DTSTAMP:20260420T220436
CREATED:20231228T184618Z
LAST-MODIFIED:20231228T184618Z
UID:4398-1714003200-1714175999@www.jowinfield.com
SUMMARY:Hartpury University
DESCRIPTION:
URL:http://www.jowinfield.com/calendar/hartpury-university-68
END:VEVENT
BEGIN:VEVENT
DTSTART;VALUE=DATE:20240422
DTEND;VALUE=DATE:20240425
DTSTAMP:20260420T220436
CREATED:20231228T194506Z
LAST-MODIFIED:20231228T194506Z
UID:4527-1713744000-1714003199@www.jowinfield.com
SUMMARY:Riding and Training Camp @Forest Edge Arena
DESCRIPTION:Riding and Training Camp @Forest Edge Arena \nContact Janet Wilson janjwilson@yahoo.com for details \n 
URL:http://www.jowinfield.com/calendar/riding-and-training-camp-forest-edge-arena
END:VEVENT
BEGIN:VEVENT
DTSTART;VALUE=DATE:20240418
DTEND;VALUE=DATE:20240420
DTSTAMP:20260420T220436
CREATED:20231228T184557Z
LAST-MODIFIED:20231228T184557Z
UID:4396-1713398400-1713571199@www.jowinfield.com
SUMMARY:Hartpury University
DESCRIPTION:
URL:http://www.jowinfield.com/calendar/hartpury-university-67
END:VEVENT
BEGIN:VEVENT
DTSTART;VALUE=DATE:20240410
DTEND;VALUE=DATE:20240412
DTSTAMP:20260420T220436
CREATED:20231228T194201Z
LAST-MODIFIED:20231228T194201Z
UID:4523-1712707200-1712879999@www.jowinfield.com
SUMMARY:BHS Training and CPD @Forest Edge Arena
DESCRIPTION:BHS Training and CPD @Forest Edge Arena \nContact Janet Wilson janet.wilson@bhs.org.uk for details \nBHS APC 6 CPD Points
URL:http://www.jowinfield.com/calendar/bhs-training-and-cpd-forest-edge-arena
END:VEVENT
BEGIN:VEVENT
DTSTART;VALUE=DATE:20240409
DTEND;VALUE=DATE:20240410
DTSTAMP:20260420T220436
CREATED:20231228T192047Z
LAST-MODIFIED:20231228T192047Z
UID:4481-1712620800-1712707199@www.jowinfield.com
SUMMARY:Lincomb Equestrian Clinic
DESCRIPTION:Lincomb Equestrian Clinic\, a mix of flatwork\, poles and jumping\, private or semi-private sessions. \nMorning Clinic: Any Horse Any Rider. Contact Linda Anderson ‭07795 361405‬ \nAfternoon: WDRC. Contact WDRC Facebook Page / Chris Rose
URL:http://www.jowinfield.com/calendar/lincomb-equestrian-clinic-4
END:VEVENT
BEGIN:VEVENT
DTSTART;VALUE=DATE:20240402
DTEND;VALUE=DATE:20240403
DTSTAMP:20260420T220436
CREATED:20231228T193731Z
LAST-MODIFIED:20231228T193731Z
UID:4519-1712016000-1712102399@www.jowinfield.com
SUMMARY:BHS CPD: Nottingham Trent
DESCRIPTION:BHS CPD: Nottingham Trent \nContact Sally Andrews sally.andrews@bhs.org.uk for details \nBHS APC 6 CPD points
URL:http://www.jowinfield.com/calendar/bhs-cpd-nottingham-trent
END:VEVENT
END:VCALENDAR