BEGIN:VCALENDAR
VERSION:2.0
PRODID:-//Jo Winfield - ECPv6.15.11//NONSGML v1.0//EN
CALSCALE:GREGORIAN
METHOD:PUBLISH
X-WR-CALNAME:Jo Winfield
X-ORIGINAL-URL:http://www.jowinfield.com
X-WR-CALDESC:Events for Jo Winfield
REFRESH-INTERVAL;VALUE=DURATION:PT1H
X-Robots-Tag:noindex
X-PUBLISHED-TTL:PT1H
BEGIN:VTIMEZONE
TZID:Europe/London
BEGIN:DAYLIGHT
TZOFFSETFROM:+0000
TZOFFSETTO:+0100
TZNAME:BST
DTSTART:20240331T010000
END:DAYLIGHT
BEGIN:STANDARD
TZOFFSETFROM:+0100
TZOFFSETTO:+0000
TZNAME:GMT
DTSTART:20241027T010000
END:STANDARD
BEGIN:DAYLIGHT
TZOFFSETFROM:+0000
TZOFFSETTO:+0100
TZNAME:BST
DTSTART:20250330T010000
END:DAYLIGHT
BEGIN:STANDARD
TZOFFSETFROM:+0100
TZOFFSETTO:+0000
TZNAME:GMT
DTSTART:20251026T010000
END:STANDARD
BEGIN:DAYLIGHT
TZOFFSETFROM:+0000
TZOFFSETTO:+0100
TZNAME:BST
DTSTART:20260329T010000
END:DAYLIGHT
BEGIN:STANDARD
TZOFFSETFROM:+0100
TZOFFSETTO:+0000
TZNAME:GMT
DTSTART:20261025T010000
END:STANDARD
END:VTIMEZONE
BEGIN:VEVENT
DTSTART;VALUE=DATE:20251117
DTEND;VALUE=DATE:20251118
DTSTAMP:20260420T215516
CREATED:20250828T113720Z
LAST-MODIFIED:20250828T113720Z
UID:4738-1763337600-1763423999@www.jowinfield.com
SUMMARY:BHS Assessing
DESCRIPTION:
URL:http://www.jowinfield.com/calendar/bhs-assessing-87
END:VEVENT
BEGIN:VEVENT
DTSTART;VALUE=DATE:20251113
DTEND;VALUE=DATE:20251115
DTSTAMP:20260420T215516
CREATED:20250828T092549Z
LAST-MODIFIED:20250828T092549Z
UID:4721-1762992000-1763164799@www.jowinfield.com
SUMMARY:Hartpury University
DESCRIPTION:
URL:http://www.jowinfield.com/calendar/hartpury-university-129
END:VEVENT
BEGIN:VEVENT
DTSTART;VALUE=DATE:20251112
DTEND;VALUE=DATE:20251113
DTSTAMP:20260420T215516
CREATED:20250828T120151Z
LAST-MODIFIED:20250828T120151Z
UID:4812-1762905600-1762991999@www.jowinfield.com
SUMMARY:BHS CPD Harley Equestrian: Tack and Equipment
DESCRIPTION:
URL:http://www.jowinfield.com/calendar/bhs-cpd-harley-equestrian-tack-and-equipment-2
END:VEVENT
BEGIN:VEVENT
DTSTART;VALUE=DATE:20251112
DTEND;VALUE=DATE:20251113
DTSTAMP:20260420T215516
CREATED:20241208T222105Z
LAST-MODIFIED:20241208T222105Z
UID:4663-1762905600-1762991999@www.jowinfield.com
SUMMARY:BHS Midlands: Tack CPD at Harley Equestrian
DESCRIPTION:BHS Midlands: Tack CPD at Harley Equestrian \nContact Sally Andrews: sally.andrews@bhs.org.uk
URL:http://www.jowinfield.com/calendar/bhs-midlands-tack-cpd-at-harley-equestrian
LOCATION:Harley Equestrian\, Woodford Halse\, Northampton\, NN11 3RG
END:VEVENT
BEGIN:VEVENT
DTSTART;VALUE=DATE:20251106
DTEND;VALUE=DATE:20251108
DTSTAMP:20260420T215516
CREATED:20250828T092531Z
LAST-MODIFIED:20250828T092531Z
UID:4719-1762387200-1762559999@www.jowinfield.com
SUMMARY:Hartpury University
DESCRIPTION:
URL:http://www.jowinfield.com/calendar/hartpury-university-128
END:VEVENT
BEGIN:VEVENT
DTSTART;VALUE=DATE:20251105
DTEND;VALUE=DATE:20251106
DTSTAMP:20260420T215516
CREATED:20250828T120105Z
LAST-MODIFIED:20250828T120105Z
UID:4809-1762300800-1762387199@www.jowinfield.com
SUMMARY:The Pony Club Conference Edinburgh
DESCRIPTION:
URL:http://www.jowinfield.com/calendar/the-pony-club-conference-edinburgh
END:VEVENT
BEGIN:VEVENT
DTSTART;VALUE=DATE:20251104
DTEND;VALUE=DATE:20251105
DTSTAMP:20260420T215516
CREATED:20250828T115232Z
LAST-MODIFIED:20250828T115232Z
UID:4790-1762214400-1762300799@www.jowinfield.com
SUMMARY:Coaching in the Worcester area
DESCRIPTION:Coaching in the Worcester area \nPlease get in touch with me directly for availability at Lincomb\, Allens Hill\, Solihull etc.
URL:http://www.jowinfield.com/calendar/coaching-in-the-worcester-area-3
END:VEVENT
BEGIN:VEVENT
DTSTART;VALUE=DATE:20251030
DTEND;VALUE=DATE:20251101
DTSTAMP:20260420T215516
CREATED:20250828T092508Z
LAST-MODIFIED:20250828T092508Z
UID:4716-1761782400-1761955199@www.jowinfield.com
SUMMARY:Hartpury University
DESCRIPTION:
URL:http://www.jowinfield.com/calendar/hartpury-university-127
END:VEVENT
BEGIN:VEVENT
DTSTART;VALUE=DATE:20251026
DTEND;VALUE=DATE:20251030
DTSTAMP:20260420T215516
CREATED:20250828T120023Z
LAST-MODIFIED:20250828T120023Z
UID:4807-1761436800-1761782399@www.jowinfield.com
SUMMARY:Jersey Pony Club
DESCRIPTION:
URL:http://www.jowinfield.com/calendar/jersey-pony-club
END:VEVENT
BEGIN:VEVENT
DTSTART;VALUE=DATE:20251023
DTEND;VALUE=DATE:20251025
DTSTAMP:20260420T215516
CREATED:20250828T092450Z
LAST-MODIFIED:20250828T092450Z
UID:4713-1761177600-1761350399@www.jowinfield.com
SUMMARY:Hartpury University
DESCRIPTION:
URL:http://www.jowinfield.com/calendar/hartpury-university-126
END:VEVENT
BEGIN:VEVENT
DTSTART;VALUE=DATE:20251021
DTEND;VALUE=DATE:20251022
DTSTAMP:20260420T215516
CREATED:20250828T115859Z
LAST-MODIFIED:20250828T115859Z
UID:4803-1761004800-1761091199@www.jowinfield.com
SUMMARY:Online training
DESCRIPTION:Online training \nPlease contact me directly to arrange any one-to-one sessions: training@jowinfield.com
URL:http://www.jowinfield.com/calendar/online-training
END:VEVENT
BEGIN:VEVENT
DTSTART;VALUE=DATE:20251016
DTEND;VALUE=DATE:20251018
DTSTAMP:20260420T215516
CREATED:20250828T092434Z
LAST-MODIFIED:20250828T092434Z
UID:4710-1760572800-1760745599@www.jowinfield.com
SUMMARY:Hartpury University
DESCRIPTION:
URL:http://www.jowinfield.com/calendar/hartpury-university-125
END:VEVENT
BEGIN:VEVENT
DTSTART;VALUE=DATE:20251014
DTEND;VALUE=DATE:20251015
DTSTAMP:20260420T215516
CREATED:20250828T115442Z
LAST-MODIFIED:20250828T115726Z
UID:4798-1760400000-1760486399@www.jowinfield.com
SUMMARY:BHS CPD  Kirklevington TS15 9PZ
DESCRIPTION:
URL:http://www.jowinfield.com/calendar/coaching-in-the-worcester-area-5
ORGANIZER;CN="Clare Maddison":MAILTO:claire.maddison@bhs.org.uk
END:VEVENT
BEGIN:VEVENT
DTSTART;VALUE=DATE:20251013
DTEND;VALUE=DATE:20251014
DTSTAMP:20260420T215516
CREATED:20250828T115927Z
LAST-MODIFIED:20250828T115927Z
UID:4805-1760313600-1760399999@www.jowinfield.com
SUMMARY:Online training
DESCRIPTION:Online training \nPlease contact me directly to arrange any one-to-one sessions: training@jowinfield.com
URL:http://www.jowinfield.com/calendar/online-training-2
END:VEVENT
BEGIN:VEVENT
DTSTART;VALUE=DATE:20251009
DTEND;VALUE=DATE:20251011
DTSTAMP:20260420T215516
CREATED:20250828T092356Z
LAST-MODIFIED:20250828T092356Z
UID:4707-1759968000-1760140799@www.jowinfield.com
SUMMARY:Hartpury University
DESCRIPTION:
URL:http://www.jowinfield.com/calendar/hartpury-university-124
END:VEVENT
BEGIN:VEVENT
DTSTART;VALUE=DATE:20251007
DTEND;VALUE=DATE:20251008
DTSTAMP:20260420T215516
CREATED:20250828T115155Z
LAST-MODIFIED:20250828T115155Z
UID:4787-1759795200-1759881599@www.jowinfield.com
SUMMARY:Coaching in the Worcester area
DESCRIPTION:Coaching in the Worcester area \nPlease get in touch with me directly for availability at Lincomb\, Allens Hill\, Solihull etc.
URL:http://www.jowinfield.com/calendar/coaching-in-the-worcester-area-2
END:VEVENT
BEGIN:VEVENT
DTSTART;VALUE=DATE:20251002
DTEND;VALUE=DATE:20251004
DTSTAMP:20260420T215516
CREATED:20250828T092337Z
LAST-MODIFIED:20250828T092337Z
UID:4705-1759363200-1759535999@www.jowinfield.com
SUMMARY:Hartpury University
DESCRIPTION:
URL:http://www.jowinfield.com/calendar/hartpury-university-123
END:VEVENT
BEGIN:VEVENT
DTSTART;VALUE=DATE:20250925
DTEND;VALUE=DATE:20250927
DTSTAMP:20260420T215516
CREATED:20250828T092316Z
LAST-MODIFIED:20250828T092316Z
UID:4702-1758758400-1758931199@www.jowinfield.com
SUMMARY:Hartpury University
DESCRIPTION:
URL:http://www.jowinfield.com/calendar/hartpury-university-122
END:VEVENT
BEGIN:VEVENT
DTSTART;TZID=Europe/London:20250922T140000
DTEND;TZID=Europe/London:20250922T180000
DTSTAMP:20260420T215516
CREATED:20250828T115114Z
LAST-MODIFIED:20250828T115114Z
UID:4785-1758549600-1758564000@www.jowinfield.com
SUMMARY:Coaching in the Worcester area
DESCRIPTION:Coaching in the Worcester area \nPlease get in touch with me directly for availability at Lincomb\, Allens Hill\, Solihull etc.
URL:http://www.jowinfield.com/calendar/coaching-in-the-worcester-area
END:VEVENT
BEGIN:VEVENT
DTSTART;VALUE=DATE:20250920
DTEND;VALUE=DATE:20250922
DTSTAMP:20260420T215516
CREATED:20250828T115354Z
LAST-MODIFIED:20250828T115354Z
UID:4795-1758326400-1758499199@www.jowinfield.com
SUMMARY:Blenheim
DESCRIPTION:
URL:http://www.jowinfield.com/calendar/blenheim
END:VEVENT
BEGIN:VEVENT
DTSTART;VALUE=DATE:20250918
DTEND;VALUE=DATE:20250920
DTSTAMP:20260420T215516
CREATED:20250828T092300Z
LAST-MODIFIED:20250828T092300Z
UID:4699-1758153600-1758326399@www.jowinfield.com
SUMMARY:Hartpury University
DESCRIPTION:
URL:http://www.jowinfield.com/calendar/hartpury-university-121
END:VEVENT
BEGIN:VEVENT
DTSTART;VALUE=DATE:20250915
DTEND;VALUE=DATE:20250918
DTSTAMP:20260420T215516
CREATED:20241208T221836Z
LAST-MODIFIED:20241208T221836Z
UID:4661-1757894400-1758153599@www.jowinfield.com
SUMMARY:Equestrian Experiences Camp: Forest Edge
DESCRIPTION:Equestrian Experiences Camp: Forest Edge \nContact Janet Wilson: equineexperiences@yahoo.com
URL:http://www.jowinfield.com/calendar/equestrian-experiences-camp-forest-edge-2
LOCATION:Forest Edge Arena\, Swaffham\, Norfolk\, PE37 8AS\, United Kingdom
END:VEVENT
BEGIN:VEVENT
DTSTART;VALUE=DATE:20250911
DTEND;VALUE=DATE:20250913
DTSTAMP:20260420T215516
CREATED:20250828T092241Z
LAST-MODIFIED:20250828T092241Z
UID:4696-1757548800-1757721599@www.jowinfield.com
SUMMARY:Hartpury University
DESCRIPTION:
URL:http://www.jowinfield.com/calendar/hartpury-university-120
END:VEVENT
BEGIN:VEVENT
DTSTART;VALUE=DATE:20250909
DTEND;VALUE=DATE:20250912
DTSTAMP:20260420T215516
CREATED:20250828T114751Z
LAST-MODIFIED:20250828T115010Z
UID:4781-1757376000-1757635199@www.jowinfield.com
SUMMARY:Coaching Worcester area
DESCRIPTION:Coaching in the Worcester area \nPlease get in touch with me directly for availability at Lincomb\, Allens Hill\, etc.
URL:http://www.jowinfield.com/calendar/hartpury-university-153
END:VEVENT
BEGIN:VEVENT
DTSTART;VALUE=DATE:20250908
DTEND;VALUE=DATE:20250909
DTSTAMP:20260420T215516
CREATED:20250828T113645Z
LAST-MODIFIED:20250828T113645Z
UID:4736-1757289600-1757375999@www.jowinfield.com
SUMMARY:BHS Assessing
DESCRIPTION:
URL:http://www.jowinfield.com/calendar/bhs-assessing-86
END:VEVENT
BEGIN:VEVENT
DTSTART;VALUE=DATE:20250905
DTEND;VALUE=DATE:20250906
DTSTAMP:20260420T215516
CREATED:20241208T221723Z
LAST-MODIFIED:20241208T221723Z
UID:4659-1757030400-1757116799@www.jowinfield.com
SUMMARY:Alvechurch RC Camp at Lincomb
DESCRIPTION:
URL:http://www.jowinfield.com/calendar/alvechurch-rc-camp-at-lincomb
END:VEVENT
BEGIN:VEVENT
DTSTART;VALUE=DATE:20250904
DTEND;VALUE=DATE:20250906
DTSTAMP:20260420T215516
CREATED:20250828T092215Z
LAST-MODIFIED:20250828T092215Z
UID:4694-1756944000-1757116799@www.jowinfield.com
SUMMARY:Hartpury University
DESCRIPTION:
URL:http://www.jowinfield.com/calendar/hartpury-university-119
END:VEVENT
BEGIN:VEVENT
DTSTART;VALUE=DATE:20250829
DTEND;VALUE=DATE:20250901
DTSTAMP:20260420T215516
CREATED:20241208T221649Z
LAST-MODIFIED:20241208T221649Z
UID:4657-1756425600-1756684799@www.jowinfield.com
SUMMARY:Worcester District RC: WDRC Camp at Lincomb
DESCRIPTION:Worcester District RC: WDRC Camp at Lincomb \nContact Chris Rose: chris.m.rose@hotmail.co.uk
URL:http://www.jowinfield.com/calendar/worcester-district-rc-wdrc-camp-at-lincomb
LOCATION:Lincomb XC
END:VEVENT
BEGIN:VEVENT
DTSTART;VALUE=DATE:20250828
DTEND;VALUE=DATE:20250829
DTSTAMP:20260420T215516
CREATED:20241208T215039Z
LAST-MODIFIED:20241208T215039Z
UID:4615-1756339200-1756425599@www.jowinfield.com
SUMMARY:Hartpury University
DESCRIPTION:
URL:http://www.jowinfield.com/calendar/hartpury-university-118
END:VEVENT
BEGIN:VEVENT
DTSTART;VALUE=DATE:20250821
DTEND;VALUE=DATE:20250823
DTSTAMP:20260420T215516
CREATED:20241208T215015Z
LAST-MODIFIED:20241208T215015Z
UID:4613-1755734400-1755907199@www.jowinfield.com
SUMMARY:Hartpury University
DESCRIPTION:
URL:http://www.jowinfield.com/calendar/hartpury-university-117
END:VEVENT
END:VCALENDAR