BEGIN:VCALENDAR
VERSION:2.0
PRODID:-//Jo Winfield - ECPv6.15.11//NONSGML v1.0//EN
CALSCALE:GREGORIAN
METHOD:PUBLISH
X-WR-CALNAME:Jo Winfield
X-ORIGINAL-URL:http://www.jowinfield.com
X-WR-CALDESC:Events for Jo Winfield
REFRESH-INTERVAL;VALUE=DURATION:PT1H
X-Robots-Tag:noindex
X-PUBLISHED-TTL:PT1H
BEGIN:VTIMEZONE
TZID:Europe/London
BEGIN:DAYLIGHT
TZOFFSETFROM:+0000
TZOFFSETTO:+0100
TZNAME:BST
DTSTART:20220327T010000
END:DAYLIGHT
BEGIN:STANDARD
TZOFFSETFROM:+0100
TZOFFSETTO:+0000
TZNAME:GMT
DTSTART:20221030T010000
END:STANDARD
BEGIN:DAYLIGHT
TZOFFSETFROM:+0000
TZOFFSETTO:+0100
TZNAME:BST
DTSTART:20230326T010000
END:DAYLIGHT
BEGIN:STANDARD
TZOFFSETFROM:+0100
TZOFFSETTO:+0000
TZNAME:GMT
DTSTART:20231029T010000
END:STANDARD
BEGIN:DAYLIGHT
TZOFFSETFROM:+0000
TZOFFSETTO:+0100
TZNAME:BST
DTSTART:20240331T010000
END:DAYLIGHT
BEGIN:STANDARD
TZOFFSETFROM:+0100
TZOFFSETTO:+0000
TZNAME:GMT
DTSTART:20241027T010000
END:STANDARD
END:VTIMEZONE
BEGIN:VEVENT
DTSTART;TZID=Europe/London:20230518T160000
DTEND;TZID=Europe/London:20230518T200000
DTSTAMP:20260422T223603
CREATED:20230118T124337Z
LAST-MODIFIED:20230118T124337Z
UID:4341-1684425600-1684440000@www.jowinfield.com
SUMMARY:LHPC Dressage
DESCRIPTION:
URL:http://www.jowinfield.com/calendar/lhpc-dressage
END:VEVENT
BEGIN:VEVENT
DTSTART;TZID=Europe/London:20230517T160000
DTEND;TZID=Europe/London:20230517T200000
DTSTAMP:20260422T223603
CREATED:20230118T124258Z
LAST-MODIFIED:20230118T124258Z
UID:4339-1684339200-1684353600@www.jowinfield.com
SUMMARY:LHPC Training
DESCRIPTION:
URL:http://www.jowinfield.com/calendar/lhpc-training-2
END:VEVENT
BEGIN:VEVENT
DTSTART;VALUE=DATE:20230511
DTEND;VALUE=DATE:20230513
DTSTAMP:20260422T223603
CREATED:20221214T114816Z
LAST-MODIFIED:20221214T114816Z
UID:4234-1683763200-1683935999@www.jowinfield.com
SUMMARY:Hartpury University
DESCRIPTION:
URL:http://www.jowinfield.com/calendar/hartpury-university-53
END:VEVENT
BEGIN:VEVENT
DTSTART;VALUE=DATE:20230509
DTEND;VALUE=DATE:20230511
DTSTAMP:20260422T223603
CREATED:20221223T174358Z
LAST-MODIFIED:20221223T174358Z
UID:4316-1683590400-1683763199@www.jowinfield.com
SUMMARY:Holmside Hall Clinic - Durham
DESCRIPTION:Holmside Hall Clinic – Durham \nTraining for competitions\, BHS assessments or simply to get on better with your horse. \nPlease contact Danielle Quigley-Cutter directly for availability and times. ‭07939 900934‬
URL:http://www.jowinfield.com/calendar/holmside-hall-clinic-durham-2
LOCATION:Holmside Hall Equestrian Centre
END:VEVENT
BEGIN:VEVENT
DTSTART;VALUE=DATE:20230504
DTEND;VALUE=DATE:20230506
DTSTAMP:20260422T223603
CREATED:20221214T114735Z
LAST-MODIFIED:20221214T114735Z
UID:4232-1683158400-1683331199@www.jowinfield.com
SUMMARY:Hartpury University
DESCRIPTION:
URL:http://www.jowinfield.com/calendar/hartpury-university-52
END:VEVENT
BEGIN:VEVENT
DTSTART;VALUE=DATE:20230502
DTEND;VALUE=DATE:20230503
DTSTAMP:20260422T223603
CREATED:20221214T123227Z
LAST-MODIFIED:20221214T123227Z
UID:4293-1682985600-1683071999@www.jowinfield.com
SUMMARY:Lincomb Equestrian Clinic: General training
DESCRIPTION:Lincomb Equestrian Clinic: General training \nThese are normally semi-private session\,  we can accommodate all levels and activities (flat and jump). \nPlease contact Linda Anderson\, ‭07795 361405‬\, linda103@me.com for times
URL:http://www.jowinfield.com/calendar/lincomb-equestrian-clinic-general-training-4
END:VEVENT
BEGIN:VEVENT
DTSTART;VALUE=DATE:20230501
DTEND;VALUE=DATE:20230502
DTSTAMP:20260422T223603
CREATED:20221214T122537Z
LAST-MODIFIED:20221214T122537Z
UID:4285-1682899200-1682985599@www.jowinfield.com
SUMMARY:Bank Holiday
DESCRIPTION:
URL:http://www.jowinfield.com/calendar/bank-holiday
END:VEVENT
BEGIN:VEVENT
DTSTART;VALUE=DATE:20230429
DTEND;VALUE=DATE:20230430
DTSTAMP:20260422T223603
CREATED:20221214T122514Z
LAST-MODIFIED:20221214T122514Z
UID:4283-1682726400-1682812799@www.jowinfield.com
SUMMARY:BHS CPD with Centaur Biomechanics: Kingston Maurward College Dorset
DESCRIPTION:BHS CPD with Centaur Biomechanics: Kingston Maurward College Dorset \nPlease contact Julie Garbutt for more Information: julie.garbutt@bhs.org.uk
URL:http://www.jowinfield.com/calendar/bhs-cpd-with-centaur-biomechanics-kingston-maurward-college-dorset
END:VEVENT
BEGIN:VEVENT
DTSTART;VALUE=DATE:20230427
DTEND;VALUE=DATE:20230429
DTSTAMP:20260422T223603
CREATED:20221214T114714Z
LAST-MODIFIED:20221214T114714Z
UID:4230-1682553600-1682726399@www.jowinfield.com
SUMMARY:Hartpury University
DESCRIPTION:
URL:http://www.jowinfield.com/calendar/hartpury-university-51
END:VEVENT
BEGIN:VEVENT
DTSTART;VALUE=DATE:20230425
DTEND;VALUE=DATE:20230426
DTSTAMP:20260422T223603
CREATED:20221214T115324Z
LAST-MODIFIED:20221214T115324Z
UID:4244-1682380800-1682467199@www.jowinfield.com
SUMMARY:BHS Assessing
DESCRIPTION:
URL:http://www.jowinfield.com/calendar/bhs-assessing-64
END:VEVENT
BEGIN:VEVENT
DTSTART;VALUE=DATE:20230420
DTEND;VALUE=DATE:20230421
DTSTAMP:20260422T223603
CREATED:20221214T121902Z
LAST-MODIFIED:20221214T121902Z
UID:4276-1681948800-1682035199@www.jowinfield.com
SUMMARY:Suffolk Training Clinic
DESCRIPTION:Please contact Caroline Burgess for further Information – clburgess83@hotmail.com\, ‭+44 7972 267120‬
URL:http://www.jowinfield.com/calendar/suffolk-training-clinic
END:VEVENT
BEGIN:VEVENT
DTSTART;VALUE=DATE:20230418
DTEND;VALUE=DATE:20230420
DTSTAMP:20260422T223603
CREATED:20221214T121407Z
LAST-MODIFIED:20221214T121407Z
UID:4270-1681776000-1681948799@www.jowinfield.com
SUMMARY:BHS Eastern Training: Forest Edge Arena Swaffham
DESCRIPTION:BHS Eastern Training: Forest Edge Arena Swaffham PE37 8AS \nPlease contact Janet Holmes for further Information. \nDay One: Any Horse\, Any Rider \nDay Two: BHS CPD – topic tbc
URL:http://www.jowinfield.com/calendar/bhs-eastern-training-forest-edge-arena-swaffham
END:VEVENT
BEGIN:VEVENT
DTSTART;VALUE=DATE:20230417
DTEND;VALUE=DATE:20230418
DTSTAMP:20260422T223603
CREATED:20221214T121126Z
LAST-MODIFIED:20221214T121126Z
UID:4268-1681689600-1681775999@www.jowinfield.com
SUMMARY:BHS CPD Training: What is your USP? W Midlands (venue tbc)
DESCRIPTION:Please contact Andrea Jackman for further details: andrea.jackman@bhs.org.uk\, ‭024 7684 0722‬
URL:http://www.jowinfield.com/calendar/bhs-cpd-training-what-is-your-usp-w-midlands-venue-tbc
END:VEVENT
BEGIN:VEVENT
DTSTART;VALUE=DATE:20230416
DTEND;VALUE=DATE:20230417
DTSTAMP:20260422T223603
CREATED:20230118T124128Z
LAST-MODIFIED:20230118T124128Z
UID:4337-1681603200-1681689599@www.jowinfield.com
SUMMARY:BHS Eastern CPD: Burnham Market
DESCRIPTION:BHS Eastern CPD: Burnham Market \nPlease contact Janet Wilson directly for more Information janet.wilson@bhs.org.uk
URL:http://www.jowinfield.com/calendar/bhs-eastern-cpd-burnham-market
END:VEVENT
BEGIN:VEVENT
DTSTART;VALUE=DATE:20230407
DTEND;VALUE=DATE:20230412
DTSTAMP:20260422T223603
CREATED:20221214T122213Z
LAST-MODIFIED:20221214T122213Z
UID:4281-1680825600-1681257599@www.jowinfield.com
SUMMARY:Easter Break
DESCRIPTION:
URL:http://www.jowinfield.com/calendar/easter-break
END:VEVENT
BEGIN:VEVENT
DTSTART;TZID=Europe/London:20230406T160000
DTEND;TZID=Europe/London:20230406T200000
DTSTAMP:20260422T223603
CREATED:20230118T123957Z
LAST-MODIFIED:20230118T123957Z
UID:4335-1680796800-1680811200@www.jowinfield.com
SUMMARY:LHPC Training
DESCRIPTION:
URL:http://www.jowinfield.com/calendar/lhpc-training
END:VEVENT
BEGIN:VEVENT
DTSTART;VALUE=DATE:20230405
DTEND;VALUE=DATE:20230406
DTSTAMP:20260422T223603
CREATED:20221214T120112Z
LAST-MODIFIED:20221214T120112Z
UID:4258-1680652800-1680739199@www.jowinfield.com
SUMMARY:Dinefwr Riding School - BHS Training St4/5 Training
DESCRIPTION:Dinefwr Riding School – BHS Training St4/5 Training \nPlease contact Victoria Jenner for sessions and availability Dinefwr Riding School\, SA18 2UD\, Wales \n‭07841 203926‬ or svjenner@hotmail.co.uk
URL:http://www.jowinfield.com/calendar/dinefwr-riding-school-bhs-training-st4-5-training-2
END:VEVENT
BEGIN:VEVENT
DTSTART;VALUE=DATE:20230404
DTEND;VALUE=DATE:20230405
DTSTAMP:20260422T223603
CREATED:20221214T123200Z
LAST-MODIFIED:20221214T123200Z
UID:4291-1680566400-1680652799@www.jowinfield.com
SUMMARY:Lincomb Equestrian Clinic: General training
DESCRIPTION:Lincomb Equestrian Clinic: General training \nThese are normally semi-private session\,  we can accommodate all levels and activities (flat and jump). \nPlease contact Linda Anderson\, ‭07795 361405‬\, linda103@me.com for times
URL:http://www.jowinfield.com/calendar/lincomb-equestrian-clinic-general-training-3
END:VEVENT
BEGIN:VEVENT
DTSTART;VALUE=DATE:20230330
DTEND;VALUE=DATE:20230401
DTSTAMP:20260422T223603
CREATED:20221214T114633Z
LAST-MODIFIED:20221214T114633Z
UID:4228-1680134400-1680307199@www.jowinfield.com
SUMMARY:Hartpury University
DESCRIPTION:
URL:http://www.jowinfield.com/calendar/hartpury-university-50
END:VEVENT
BEGIN:VEVENT
DTSTART;VALUE=DATE:20230326
DTEND;VALUE=DATE:20230327
DTSTAMP:20260422T223603
CREATED:20230118T123819Z
LAST-MODIFIED:20230118T123819Z
UID:4333-1679788800-1679875199@www.jowinfield.com
SUMMARY:Training Event
DESCRIPTION:
URL:http://www.jowinfield.com/calendar/training-event
END:VEVENT
BEGIN:VEVENT
DTSTART;VALUE=DATE:20230325
DTEND;VALUE=DATE:20230326
DTSTAMP:20260422T223603
CREATED:20230118T123751Z
LAST-MODIFIED:20230118T123751Z
UID:4331-1679702400-1679788799@www.jowinfield.com
SUMMARY:Principles of Judging Seminar
DESCRIPTION:
URL:http://www.jowinfield.com/calendar/principles-of-judging-seminar
END:VEVENT
BEGIN:VEVENT
DTSTART;VALUE=DATE:20230323
DTEND;VALUE=DATE:20230325
DTSTAMP:20260422T223603
CREATED:20221214T114611Z
LAST-MODIFIED:20221214T114611Z
UID:4226-1679529600-1679702399@www.jowinfield.com
SUMMARY:Hartpury University
DESCRIPTION:
URL:http://www.jowinfield.com/calendar/hartpury-university-49
END:VEVENT
BEGIN:VEVENT
DTSTART;VALUE=DATE:20230322
DTEND;VALUE=DATE:20230323
DTSTAMP:20260422T223603
CREATED:20221214T115302Z
LAST-MODIFIED:20221214T115302Z
UID:4242-1679443200-1679529599@www.jowinfield.com
SUMMARY:BHS Assessing
DESCRIPTION:
URL:http://www.jowinfield.com/calendar/bhs-assessing-63
END:VEVENT
BEGIN:VEVENT
DTSTART;VALUE=DATE:20230321
DTEND;VALUE=DATE:20230322
DTSTAMP:20260422T223603
CREATED:20230118T123711Z
LAST-MODIFIED:20230118T123711Z
UID:4329-1679356800-1679443199@www.jowinfield.com
SUMMARY:Personal Training
DESCRIPTION:
URL:http://www.jowinfield.com/calendar/personal-training
END:VEVENT
BEGIN:VEVENT
DTSTART;VALUE=DATE:20230320
DTEND;VALUE=DATE:20230321
DTSTAMP:20260422T223603
CREATED:20221214T120430Z
LAST-MODIFIED:20221214T120430Z
UID:4260-1679270400-1679356799@www.jowinfield.com
SUMMARY:BHS CPD - Avon Coaching: St4 and St5
DESCRIPTION:BHS CPD – Avon Coaching: St4 and St5 \nPlease contact Jo Rawlins for information. This will also count for 6 BHS CPD Points: ‭+44 7779 888658‬
URL:http://www.jowinfield.com/calendar/bhs-cpd-avon-coaching-st4-and-st5
END:VEVENT
BEGIN:VEVENT
DTSTART;VALUE=DATE:20230316
DTEND;VALUE=DATE:20230318
DTSTAMP:20260422T223603
CREATED:20221214T114549Z
LAST-MODIFIED:20221214T114549Z
UID:4224-1678924800-1679097599@www.jowinfield.com
SUMMARY:Hartpury University
DESCRIPTION:
URL:http://www.jowinfield.com/calendar/hartpury-university-48
END:VEVENT
BEGIN:VEVENT
DTSTART;VALUE=DATE:20230309
DTEND;VALUE=DATE:20230311
DTSTAMP:20260422T223603
CREATED:20221214T114529Z
LAST-MODIFIED:20221214T114529Z
UID:4222-1678320000-1678492799@www.jowinfield.com
SUMMARY:Hartpury University
DESCRIPTION:
URL:http://www.jowinfield.com/calendar/hartpury-university-47
END:VEVENT
BEGIN:VEVENT
DTSTART;VALUE=DATE:20230308
DTEND;VALUE=DATE:20230309
DTSTAMP:20260422T223603
CREATED:20221214T120029Z
LAST-MODIFIED:20221214T120029Z
UID:4256-1678233600-1678319999@www.jowinfield.com
SUMMARY:Dinefwr Riding School -  BHS Training St4/5 Training
DESCRIPTION:Please contact Victoria Jenner for sessions and availability Dinefwr Riding School\, SA18 2UD\, Wales \n‭07841 203926‬ or svjenner@hotmail.co.uk
URL:http://www.jowinfield.com/calendar/dinefwr-riding-school-bhs-training-st4-5-training
END:VEVENT
BEGIN:VEVENT
DTSTART;VALUE=DATE:20230307
DTEND;VALUE=DATE:20230308
DTSTAMP:20260422T223603
CREATED:20221214T123135Z
LAST-MODIFIED:20221214T123135Z
UID:4289-1678147200-1678233599@www.jowinfield.com
SUMMARY:Lincomb Equestrian Clinic: General training
DESCRIPTION:Lincomb Equestrian Clinic: General training \nThese are normally semi-private session\,  we can accommodate all levels and activities (flat and jump). \nPlease contact Linda Anderson\, ‭07795 361405‬\, linda103@me.com for times
URL:http://www.jowinfield.com/calendar/lincomb-equestrian-clinic-general-training-2
END:VEVENT
BEGIN:VEVENT
DTSTART;VALUE=DATE:20230302
DTEND;VALUE=DATE:20230304
DTSTAMP:20260422T223603
CREATED:20221214T114509Z
LAST-MODIFIED:20221214T114509Z
UID:4220-1677715200-1677887999@www.jowinfield.com
SUMMARY:Hartpury University
DESCRIPTION:
URL:http://www.jowinfield.com/calendar/hartpury-university-46
END:VEVENT
END:VCALENDAR