BEGIN:VCALENDAR
VERSION:2.0
PRODID:-//Jo Winfield - ECPv6.15.11//NONSGML v1.0//EN
CALSCALE:GREGORIAN
METHOD:PUBLISH
X-WR-CALNAME:Jo Winfield
X-ORIGINAL-URL:http://www.jowinfield.com
X-WR-CALDESC:Events for Jo Winfield
REFRESH-INTERVAL;VALUE=DURATION:PT1H
X-Robots-Tag:noindex
X-PUBLISHED-TTL:PT1H
BEGIN:VTIMEZONE
TZID:Europe/London
BEGIN:DAYLIGHT
TZOFFSETFROM:+0000
TZOFFSETTO:+0100
TZNAME:BST
DTSTART:20240331T010000
END:DAYLIGHT
BEGIN:STANDARD
TZOFFSETFROM:+0100
TZOFFSETTO:+0000
TZNAME:GMT
DTSTART:20241027T010000
END:STANDARD
BEGIN:DAYLIGHT
TZOFFSETFROM:+0000
TZOFFSETTO:+0100
TZNAME:BST
DTSTART:20250330T010000
END:DAYLIGHT
BEGIN:STANDARD
TZOFFSETFROM:+0100
TZOFFSETTO:+0000
TZNAME:GMT
DTSTART:20251026T010000
END:STANDARD
BEGIN:DAYLIGHT
TZOFFSETFROM:+0000
TZOFFSETTO:+0100
TZNAME:BST
DTSTART:20260329T010000
END:DAYLIGHT
BEGIN:STANDARD
TZOFFSETFROM:+0100
TZOFFSETTO:+0000
TZNAME:GMT
DTSTART:20261025T010000
END:STANDARD
BEGIN:DAYLIGHT
TZOFFSETFROM:+0000
TZOFFSETTO:+0100
TZNAME:BST
DTSTART:20270328T010000
END:DAYLIGHT
BEGIN:STANDARD
TZOFFSETFROM:+0100
TZOFFSETTO:+0000
TZNAME:GMT
DTSTART:20271031T010000
END:STANDARD
END:VTIMEZONE
BEGIN:VEVENT
DTSTART;VALUE=DATE:20260205
DTEND;VALUE=DATE:20260207
DTSTAMP:20260420T201459
CREATED:20250828T114156Z
LAST-MODIFIED:20250828T114156Z
UID:4754-1770249600-1770422399@www.jowinfield.com
SUMMARY:Hartpury University
DESCRIPTION:
URL:http://www.jowinfield.com/calendar/hartpury-university-141
END:VEVENT
BEGIN:VEVENT
DTSTART;VALUE=DATE:20260129
DTEND;VALUE=DATE:20260131
DTSTAMP:20260420T201459
CREATED:20250828T114131Z
LAST-MODIFIED:20250828T114131Z
UID:4752-1769644800-1769817599@www.jowinfield.com
SUMMARY:Hartpury University
DESCRIPTION:
URL:http://www.jowinfield.com/calendar/hartpury-university-140
END:VEVENT
BEGIN:VEVENT
DTSTART;VALUE=DATE:20260122
DTEND;VALUE=DATE:20260124
DTSTAMP:20260420T201459
CREATED:20250828T114059Z
LAST-MODIFIED:20250828T114059Z
UID:4750-1769040000-1769212799@www.jowinfield.com
SUMMARY:Hartpury University
DESCRIPTION:
URL:http://www.jowinfield.com/calendar/hartpury-university-139
END:VEVENT
BEGIN:VEVENT
DTSTART;VALUE=DATE:20260115
DTEND;VALUE=DATE:20260117
DTSTAMP:20260420T201459
CREATED:20250828T114032Z
LAST-MODIFIED:20250828T114032Z
UID:4748-1768435200-1768607999@www.jowinfield.com
SUMMARY:Hartpury University
DESCRIPTION:
URL:http://www.jowinfield.com/calendar/hartpury-university-138
END:VEVENT
BEGIN:VEVENT
DTSTART;VALUE=DATE:20260108
DTEND;VALUE=DATE:20260110
DTSTAMP:20260420T201459
CREATED:20250828T114009Z
LAST-MODIFIED:20250828T114009Z
UID:4746-1767830400-1768003199@www.jowinfield.com
SUMMARY:Hartpury University
DESCRIPTION:
URL:http://www.jowinfield.com/calendar/hartpury-university-137
END:VEVENT
BEGIN:VEVENT
DTSTART;VALUE=DATE:20260105
DTEND;VALUE=DATE:20260107
DTSTAMP:20260420T201459
CREATED:20250828T120537Z
LAST-MODIFIED:20250828T120537Z
UID:4819-1767571200-1767743999@www.jowinfield.com
SUMMARY:F&I Conference
DESCRIPTION:
URL:http://www.jowinfield.com/calendar/fi-conference
END:VEVENT
BEGIN:VEVENT
DTSTART;VALUE=DATE:20251218
DTEND;VALUE=DATE:20251220
DTSTAMP:20260420T201459
CREATED:20250828T092731Z
LAST-MODIFIED:20250828T092731Z
UID:4733-1766016000-1766188799@www.jowinfield.com
SUMMARY:Hartpury University
DESCRIPTION:
URL:http://www.jowinfield.com/calendar/hartpury-university-134
END:VEVENT
BEGIN:VEVENT
DTSTART;VALUE=DATE:20251211
DTEND;VALUE=DATE:20251213
DTSTAMP:20260420T201459
CREATED:20250828T092711Z
LAST-MODIFIED:20250828T092711Z
UID:4730-1765411200-1765583999@www.jowinfield.com
SUMMARY:Hartpury University
DESCRIPTION:
URL:http://www.jowinfield.com/calendar/hartpury-university-133
END:VEVENT
BEGIN:VEVENT
DTSTART;VALUE=DATE:20251204
DTEND;VALUE=DATE:20251206
DTSTAMP:20260420T201459
CREATED:20250828T092652Z
LAST-MODIFIED:20250828T092652Z
UID:4728-1764806400-1764979199@www.jowinfield.com
SUMMARY:Hartpury University
DESCRIPTION:
URL:http://www.jowinfield.com/calendar/hartpury-university-132
END:VEVENT
BEGIN:VEVENT
DTSTART;VALUE=DATE:20251203
DTEND;VALUE=DATE:20251204
DTSTAMP:20260420T201459
CREATED:20250828T120416Z
LAST-MODIFIED:20250828T120416Z
UID:4816-1764720000-1764806399@www.jowinfield.com
SUMMARY:Online training
DESCRIPTION:Online training \nPlease contact me directly to arrange any one-to-one sessions: training@jowinfield.com
URL:http://www.jowinfield.com/calendar/online-training-4
END:VEVENT
BEGIN:VEVENT
DTSTART;VALUE=DATE:20251202
DTEND;VALUE=DATE:20251203
DTSTAMP:20260420T201459
CREATED:20250828T115305Z
LAST-MODIFIED:20250828T115305Z
UID:4793-1764633600-1764719999@www.jowinfield.com
SUMMARY:Coaching in the Worcester area
DESCRIPTION:Coaching in the Worcester area \nPlease get in touch with me directly for availability at Lincomb\, Allens Hill\, Solihull etc.
URL:http://www.jowinfield.com/calendar/coaching-in-the-worcester-area-4
END:VEVENT
BEGIN:VEVENT
DTSTART;VALUE=DATE:20251201
DTEND;VALUE=DATE:20251202
DTSTAMP:20260420T201459
CREATED:20250828T120340Z
LAST-MODIFIED:20250828T120340Z
UID:4814-1764547200-1764633599@www.jowinfield.com
SUMMARY:Online training
DESCRIPTION:Online training \nPlease contact me directly to arrange any one-to-one sessions: training@jowinfield.com
URL:http://www.jowinfield.com/calendar/online-training-3
END:VEVENT
BEGIN:VEVENT
DTSTART;VALUE=DATE:20251127
DTEND;VALUE=DATE:20251129
DTSTAMP:20260420T201459
CREATED:20250828T092631Z
LAST-MODIFIED:20250828T092632Z
UID:4725-1764201600-1764374399@www.jowinfield.com
SUMMARY:Hartpury University
DESCRIPTION:
URL:http://www.jowinfield.com/calendar/hartpury-university-131
END:VEVENT
BEGIN:VEVENT
DTSTART;VALUE=DATE:20251126
DTEND;VALUE=DATE:20251127
DTSTAMP:20260420T201459
CREATED:20250828T113740Z
LAST-MODIFIED:20250828T113740Z
UID:4740-1764115200-1764201599@www.jowinfield.com
SUMMARY:BHS Assessing
DESCRIPTION:
URL:http://www.jowinfield.com/calendar/bhs-assessing-88
END:VEVENT
BEGIN:VEVENT
DTSTART;TZID=Europe/London:20251124T080000
DTEND;TZID=Europe/London:20251124T130000
DTSTAMP:20260420T201459
CREATED:20250828T113859Z
LAST-MODIFIED:20250828T113859Z
UID:4744-1763971200-1763989200@www.jowinfield.com
SUMMARY:Hartpury University
DESCRIPTION:
URL:http://www.jowinfield.com/calendar/hartpury-university-136
END:VEVENT
BEGIN:VEVENT
DTSTART;VALUE=DATE:20251120
DTEND;VALUE=DATE:20251122
DTSTAMP:20260420T201500
CREATED:20250828T092611Z
LAST-MODIFIED:20250828T092611Z
UID:4723-1763596800-1763769599@www.jowinfield.com
SUMMARY:Hartpury University
DESCRIPTION:
URL:http://www.jowinfield.com/calendar/hartpury-university-130
END:VEVENT
BEGIN:VEVENT
DTSTART;VALUE=DATE:20251119
DTEND;VALUE=DATE:20251120
DTSTAMP:20260420T201500
CREATED:20250828T113829Z
LAST-MODIFIED:20250828T113829Z
UID:4742-1763510400-1763596799@www.jowinfield.com
SUMMARY:Hartpury University
DESCRIPTION:
URL:http://www.jowinfield.com/calendar/hartpury-university-135
END:VEVENT
BEGIN:VEVENT
DTSTART;VALUE=DATE:20251117
DTEND;VALUE=DATE:20251118
DTSTAMP:20260420T201500
CREATED:20250828T113720Z
LAST-MODIFIED:20250828T113720Z
UID:4738-1763337600-1763423999@www.jowinfield.com
SUMMARY:BHS Assessing
DESCRIPTION:
URL:http://www.jowinfield.com/calendar/bhs-assessing-87
END:VEVENT
BEGIN:VEVENT
DTSTART;VALUE=DATE:20251113
DTEND;VALUE=DATE:20251115
DTSTAMP:20260420T201500
CREATED:20250828T092549Z
LAST-MODIFIED:20250828T092549Z
UID:4721-1762992000-1763164799@www.jowinfield.com
SUMMARY:Hartpury University
DESCRIPTION:
URL:http://www.jowinfield.com/calendar/hartpury-university-129
END:VEVENT
BEGIN:VEVENT
DTSTART;VALUE=DATE:20251112
DTEND;VALUE=DATE:20251113
DTSTAMP:20260420T201500
CREATED:20250828T120151Z
LAST-MODIFIED:20250828T120151Z
UID:4812-1762905600-1762991999@www.jowinfield.com
SUMMARY:BHS CPD Harley Equestrian: Tack and Equipment
DESCRIPTION:
URL:http://www.jowinfield.com/calendar/bhs-cpd-harley-equestrian-tack-and-equipment-2
END:VEVENT
BEGIN:VEVENT
DTSTART;VALUE=DATE:20251112
DTEND;VALUE=DATE:20251113
DTSTAMP:20260420T201500
CREATED:20241208T222105Z
LAST-MODIFIED:20241208T222105Z
UID:4663-1762905600-1762991999@www.jowinfield.com
SUMMARY:BHS Midlands: Tack CPD at Harley Equestrian
DESCRIPTION:BHS Midlands: Tack CPD at Harley Equestrian \nContact Sally Andrews: sally.andrews@bhs.org.uk
URL:http://www.jowinfield.com/calendar/bhs-midlands-tack-cpd-at-harley-equestrian
LOCATION:Harley Equestrian\, Woodford Halse\, Northampton\, NN11 3RG
END:VEVENT
BEGIN:VEVENT
DTSTART;VALUE=DATE:20251106
DTEND;VALUE=DATE:20251108
DTSTAMP:20260420T201500
CREATED:20250828T092531Z
LAST-MODIFIED:20250828T092531Z
UID:4719-1762387200-1762559999@www.jowinfield.com
SUMMARY:Hartpury University
DESCRIPTION:
URL:http://www.jowinfield.com/calendar/hartpury-university-128
END:VEVENT
BEGIN:VEVENT
DTSTART;VALUE=DATE:20251105
DTEND;VALUE=DATE:20251106
DTSTAMP:20260420T201500
CREATED:20250828T120105Z
LAST-MODIFIED:20250828T120105Z
UID:4809-1762300800-1762387199@www.jowinfield.com
SUMMARY:The Pony Club Conference Edinburgh
DESCRIPTION:
URL:http://www.jowinfield.com/calendar/the-pony-club-conference-edinburgh
END:VEVENT
BEGIN:VEVENT
DTSTART;VALUE=DATE:20251104
DTEND;VALUE=DATE:20251105
DTSTAMP:20260420T201500
CREATED:20250828T115232Z
LAST-MODIFIED:20250828T115232Z
UID:4790-1762214400-1762300799@www.jowinfield.com
SUMMARY:Coaching in the Worcester area
DESCRIPTION:Coaching in the Worcester area \nPlease get in touch with me directly for availability at Lincomb\, Allens Hill\, Solihull etc.
URL:http://www.jowinfield.com/calendar/coaching-in-the-worcester-area-3
END:VEVENT
BEGIN:VEVENT
DTSTART;VALUE=DATE:20251030
DTEND;VALUE=DATE:20251101
DTSTAMP:20260420T201500
CREATED:20250828T092508Z
LAST-MODIFIED:20250828T092508Z
UID:4716-1761782400-1761955199@www.jowinfield.com
SUMMARY:Hartpury University
DESCRIPTION:
URL:http://www.jowinfield.com/calendar/hartpury-university-127
END:VEVENT
BEGIN:VEVENT
DTSTART;VALUE=DATE:20251026
DTEND;VALUE=DATE:20251030
DTSTAMP:20260420T201500
CREATED:20250828T120023Z
LAST-MODIFIED:20250828T120023Z
UID:4807-1761436800-1761782399@www.jowinfield.com
SUMMARY:Jersey Pony Club
DESCRIPTION:
URL:http://www.jowinfield.com/calendar/jersey-pony-club
END:VEVENT
BEGIN:VEVENT
DTSTART;VALUE=DATE:20251023
DTEND;VALUE=DATE:20251025
DTSTAMP:20260420T201500
CREATED:20250828T092450Z
LAST-MODIFIED:20250828T092450Z
UID:4713-1761177600-1761350399@www.jowinfield.com
SUMMARY:Hartpury University
DESCRIPTION:
URL:http://www.jowinfield.com/calendar/hartpury-university-126
END:VEVENT
BEGIN:VEVENT
DTSTART;VALUE=DATE:20251021
DTEND;VALUE=DATE:20251022
DTSTAMP:20260420T201500
CREATED:20250828T115859Z
LAST-MODIFIED:20250828T115859Z
UID:4803-1761004800-1761091199@www.jowinfield.com
SUMMARY:Online training
DESCRIPTION:Online training \nPlease contact me directly to arrange any one-to-one sessions: training@jowinfield.com
URL:http://www.jowinfield.com/calendar/online-training
END:VEVENT
BEGIN:VEVENT
DTSTART;VALUE=DATE:20251016
DTEND;VALUE=DATE:20251018
DTSTAMP:20260420T201500
CREATED:20250828T092434Z
LAST-MODIFIED:20250828T092434Z
UID:4710-1760572800-1760745599@www.jowinfield.com
SUMMARY:Hartpury University
DESCRIPTION:
URL:http://www.jowinfield.com/calendar/hartpury-university-125
END:VEVENT
BEGIN:VEVENT
DTSTART;VALUE=DATE:20251014
DTEND;VALUE=DATE:20251015
DTSTAMP:20260420T201500
CREATED:20250828T115442Z
LAST-MODIFIED:20250828T115726Z
UID:4798-1760400000-1760486399@www.jowinfield.com
SUMMARY:BHS CPD  Kirklevington TS15 9PZ
DESCRIPTION:
URL:http://www.jowinfield.com/calendar/coaching-in-the-worcester-area-5
ORGANIZER;CN="Clare Maddison":MAILTO:claire.maddison@bhs.org.uk
END:VEVENT
END:VCALENDAR