BEGIN:VCALENDAR
VERSION:2.0
PRODID:-//Jo Winfield - ECPv6.15.11//NONSGML v1.0//EN
CALSCALE:GREGORIAN
METHOD:PUBLISH
X-ORIGINAL-URL:http://www.jowinfield.com
X-WR-CALDESC:Events for Jo Winfield
REFRESH-INTERVAL;VALUE=DURATION:PT1H
X-Robots-Tag:noindex
X-PUBLISHED-TTL:PT1H
BEGIN:VTIMEZONE
TZID:Europe/London
BEGIN:DAYLIGHT
TZOFFSETFROM:+0000
TZOFFSETTO:+0100
TZNAME:BST
DTSTART:20240331T010000
END:DAYLIGHT
BEGIN:STANDARD
TZOFFSETFROM:+0100
TZOFFSETTO:+0000
TZNAME:GMT
DTSTART:20241027T010000
END:STANDARD
BEGIN:DAYLIGHT
TZOFFSETFROM:+0000
TZOFFSETTO:+0100
TZNAME:BST
DTSTART:20250330T010000
END:DAYLIGHT
BEGIN:STANDARD
TZOFFSETFROM:+0100
TZOFFSETTO:+0000
TZNAME:GMT
DTSTART:20251026T010000
END:STANDARD
BEGIN:DAYLIGHT
TZOFFSETFROM:+0000
TZOFFSETTO:+0100
TZNAME:BST
DTSTART:20260329T010000
END:DAYLIGHT
BEGIN:STANDARD
TZOFFSETFROM:+0100
TZOFFSETTO:+0000
TZNAME:GMT
DTSTART:20261025T010000
END:STANDARD
END:VTIMEZONE
BEGIN:VEVENT
DTSTART;VALUE=DATE:20250407
DTEND;VALUE=DATE:20250408
DTSTAMP:20260420T141842
CREATED:20241219T094641Z
LAST-MODIFIED:20241219T094641Z
UID:4686-1743984000-1744070399@www.jowinfield.com
SUMMARY:BHS Midlands CPD: Pole Patterns at Witham Villa\, Leics
DESCRIPTION:This CPD counts as 6 APC CPD Points. \nContact Sally Andrews Email: sally.andrews@bhs.org.uk\, Call: 02476 840735 \n 
URL:http://www.jowinfield.com/calendar/bhs-midlands-cpd-pole-patterns-at-witham-villa-leics
ORGANIZER;CN="Sally Andrews":MAILTO:sally.andrews@bhs.org.uk
END:VEVENT
BEGIN:VEVENT
DTSTART;VALUE=DATE:20250409
DTEND;VALUE=DATE:20250410
DTSTAMP:20260420T141842
CREATED:20241208T220202Z
LAST-MODIFIED:20241208T220202Z
UID:4634-1744156800-1744243199@www.jowinfield.com
SUMMARY:BHS Welsh Coaching Convention: Pencoed College
DESCRIPTION:
URL:http://www.jowinfield.com/calendar/bhs-welsh-coaching-convention-pencoed-college
END:VEVENT
BEGIN:VEVENT
DTSTART;VALUE=DATE:20250414
DTEND;VALUE=DATE:20250415
DTSTAMP:20260420T141842
CREATED:20241208T220223Z
LAST-MODIFIED:20241208T220223Z
UID:4636-1744588800-1744675199@www.jowinfield.com
SUMMARY:BHS Assessing
DESCRIPTION:
URL:http://www.jowinfield.com/calendar/bhs-assessing-85
END:VEVENT
BEGIN:VEVENT
DTSTART;VALUE=DATE:20250428
DTEND;VALUE=DATE:20250501
DTSTAMP:20260420T141842
CREATED:20241208T220412Z
LAST-MODIFIED:20241208T220412Z
UID:4638-1745798400-1746057599@www.jowinfield.com
SUMMARY:Equestrian Experiences: Camp @Forest Edge
DESCRIPTION:Contact Janet Wilson equineexperiences@yahoo.com \n 
URL:http://www.jowinfield.com/calendar/equestrian-experiences-camp-forest-edge
LOCATION:Forest Edge Arena\, Swaffham\, Norfolk\, PE37 8AS\, United Kingdom
END:VEVENT
BEGIN:VEVENT
DTSTART;VALUE=DATE:20250501
DTEND;VALUE=DATE:20250503
DTSTAMP:20260420T141842
CREATED:20241208T214352Z
LAST-MODIFIED:20241208T214352Z
UID:4583-1746057600-1746230399@www.jowinfield.com
SUMMARY:Hartpury University
DESCRIPTION:
URL:http://www.jowinfield.com/calendar/hartpury-university-102
END:VEVENT
BEGIN:VEVENT
DTSTART;VALUE=DATE:20250507
DTEND;VALUE=DATE:20250510
DTSTAMP:20260420T141842
CREATED:20241208T214420Z
LAST-MODIFIED:20241208T214420Z
UID:4585-1746576000-1746835199@www.jowinfield.com
SUMMARY:Hartpury University
DESCRIPTION:
URL:http://www.jowinfield.com/calendar/hartpury-university-103
END:VEVENT
BEGIN:VEVENT
DTSTART;VALUE=DATE:20250512
DTEND;VALUE=DATE:20250514
DTSTAMP:20260420T141842
CREATED:20241208T220652Z
LAST-MODIFIED:20241208T220652Z
UID:4640-1747008000-1747180799@www.jowinfield.com
SUMMARY:BHS North East Training and CPD
DESCRIPTION:BHS CPD Pole Patterns at Kirkley Hall and training clinic \nContact Claire Maddison: claire.maddison@bhs.org.uk
URL:http://www.jowinfield.com/calendar/bhs-north-east-training-and-cpd
LOCATION:Kirley Hall\, Northumberland
END:VEVENT
BEGIN:VEVENT
DTSTART;VALUE=DATE:20250515
DTEND;VALUE=DATE:20250517
DTSTAMP:20260420T141842
CREATED:20241208T214446Z
LAST-MODIFIED:20241208T214446Z
UID:4587-1747267200-1747439999@www.jowinfield.com
SUMMARY:Hartpury University
DESCRIPTION:
URL:http://www.jowinfield.com/calendar/hartpury-university-104
END:VEVENT
BEGIN:VEVENT
DTSTART;VALUE=DATE:20250517
DTEND;VALUE=DATE:20250519
DTSTAMP:20260420T141842
CREATED:20241208T220726Z
LAST-MODIFIED:20241208T220726Z
UID:4643-1747440000-1747612799@www.jowinfield.com
SUMMARY:LHPC Tetrathlon
DESCRIPTION:
URL:http://www.jowinfield.com/calendar/lhpc-tetrathlon-3
END:VEVENT
BEGIN:VEVENT
DTSTART;VALUE=DATE:20250522
DTEND;VALUE=DATE:20250524
DTSTAMP:20260420T141842
CREATED:20241208T214510Z
LAST-MODIFIED:20241208T214510Z
UID:4589-1747872000-1748044799@www.jowinfield.com
SUMMARY:Hartpury University
DESCRIPTION:
URL:http://www.jowinfield.com/calendar/hartpury-university-105
END:VEVENT
BEGIN:VEVENT
DTSTART;VALUE=DATE:20250523
DTEND;VALUE=DATE:20250526
DTSTAMP:20260420T141842
CREATED:20241208T220922Z
LAST-MODIFIED:20241208T220922Z
UID:4645-1747958400-1748217599@www.jowinfield.com
SUMMARY:Worcester District RC Camp WDRC: Unicorn Centre
DESCRIPTION:Worcester District RC Camp WDRC at Unicorn Centre \nContact Chris Rose: chris.m.rose@hotmail.co.uk
URL:http://www.jowinfield.com/calendar/worcester-district-rc-camp-wdrc-unicorn-centre
END:VEVENT
BEGIN:VEVENT
DTSTART;VALUE=DATE:20250529
DTEND;VALUE=DATE:20250531
DTSTAMP:20260420T141842
CREATED:20241208T214535Z
LAST-MODIFIED:20241208T214535Z
UID:4591-1748476800-1748649599@www.jowinfield.com
SUMMARY:Hartpury University
DESCRIPTION:
URL:http://www.jowinfield.com/calendar/hartpury-university-106
END:VEVENT
BEGIN:VEVENT
DTSTART;VALUE=DATE:20250605
DTEND;VALUE=DATE:20250607
DTSTAMP:20260420T141842
CREATED:20241208T214559Z
LAST-MODIFIED:20241208T214559Z
UID:4593-1749081600-1749254399@www.jowinfield.com
SUMMARY:Hartpury University
DESCRIPTION:
URL:http://www.jowinfield.com/calendar/hartpury-university-107
END:VEVENT
BEGIN:VEVENT
DTSTART;VALUE=DATE:20250612
DTEND;VALUE=DATE:20250614
DTSTAMP:20260420T141842
CREATED:20241208T214624Z
LAST-MODIFIED:20241208T214624Z
UID:4595-1749686400-1749859199@www.jowinfield.com
SUMMARY:Hartpury University
DESCRIPTION:
URL:http://www.jowinfield.com/calendar/hartpury-university-108
END:VEVENT
BEGIN:VEVENT
DTSTART;VALUE=DATE:20250613
DTEND;VALUE=DATE:20250614
DTSTAMP:20260420T141842
CREATED:20241208T221109Z
LAST-MODIFIED:20241208T221109Z
UID:4649-1749772800-1749859199@www.jowinfield.com
SUMMARY:Alvechurch Riding Club Camp ARC: Lincomb
DESCRIPTION:
URL:http://www.jowinfield.com/calendar/alvechurch-riding-club-camp-arc-lincomb
LOCATION:Lincomb XC
END:VEVENT
BEGIN:VEVENT
DTSTART;VALUE=DATE:20250616
DTEND;VALUE=DATE:20250619
DTSTAMP:20260420T141842
CREATED:20241208T221253Z
LAST-MODIFIED:20241208T221253Z
UID:4651-1750032000-1750291199@www.jowinfield.com
SUMMARY:Equestrian Experiences: Forest Edge
DESCRIPTION:Equestrian Experiences: Forest Edge \nContact Janet Wilson: equineexperiences@yahoo.com
URL:http://www.jowinfield.com/calendar/equestrian-experiences-forest-edge
LOCATION:Forest Edge Arena\, Swaffham\, Norfolk\, PE37 8AS\, United Kingdom
END:VEVENT
BEGIN:VEVENT
DTSTART;VALUE=DATE:20250619
DTEND;VALUE=DATE:20250621
DTSTAMP:20260420T141842
CREATED:20241208T214647Z
LAST-MODIFIED:20241208T214647Z
UID:4597-1750291200-1750463999@www.jowinfield.com
SUMMARY:Hartpury University
DESCRIPTION:
URL:http://www.jowinfield.com/calendar/hartpury-university-109
END:VEVENT
BEGIN:VEVENT
DTSTART;VALUE=DATE:20250626
DTEND;VALUE=DATE:20250628
DTSTAMP:20260420T141842
CREATED:20241208T214710Z
LAST-MODIFIED:20241208T214710Z
UID:4599-1750896000-1751068799@www.jowinfield.com
SUMMARY:Hartpury University
DESCRIPTION:
URL:http://www.jowinfield.com/calendar/hartpury-university-110
END:VEVENT
BEGIN:VEVENT
DTSTART;VALUE=DATE:20250701
DTEND;VALUE=DATE:20250705
DTSTAMP:20260420T141842
CREATED:20241208T220057Z
LAST-MODIFIED:20241208T220057Z
UID:4632-1751328000-1751673599@www.jowinfield.com
SUMMARY:BHS Eastern Region: Camp @Forest Edge
DESCRIPTION:BHS Eastern Region: \nForest Edge Camp \nContact Lucy Gooderham lucy.gooderham@bhs.org.uk
URL:http://www.jowinfield.com/calendar/bhs-eastern-region-camp-forest-edge
END:VEVENT
BEGIN:VEVENT
DTSTART;VALUE=DATE:20250701
DTEND;VALUE=DATE:20250705
DTSTAMP:20260420T141842
CREATED:20241208T221431Z
LAST-MODIFIED:20241208T221431Z
UID:4653-1751328000-1751673599@www.jowinfield.com
SUMMARY:BHS Eastern Region: Camp @Forest Edge
DESCRIPTION:BHS Eastern Region: Camp @Forest Edge \nContact Lucy Gooderham ucy.gooderham@bhs.org.uk
URL:http://www.jowinfield.com/calendar/bhs-eastern-region-camp-forest-edge-2
LOCATION:Forest Edge Arena\, Swaffham\, Norfolk\, PE37 8AS\, United Kingdom
END:VEVENT
BEGIN:VEVENT
DTSTART;VALUE=DATE:20250710
DTEND;VALUE=DATE:20250712
DTSTAMP:20260420T141842
CREATED:20241208T214743Z
LAST-MODIFIED:20241208T214743Z
UID:4601-1752105600-1752278399@www.jowinfield.com
SUMMARY:Hartpury University
DESCRIPTION:
URL:http://www.jowinfield.com/calendar/hartpury-university-111
END:VEVENT
BEGIN:VEVENT
DTSTART;VALUE=DATE:20250712
DTEND;VALUE=DATE:20250714
DTSTAMP:20260420T141842
CREATED:20241208T221509Z
LAST-MODIFIED:20241208T221509Z
UID:4655-1752278400-1752451199@www.jowinfield.com
SUMMARY:LHPC Area Tetrathlon
DESCRIPTION:
URL:http://www.jowinfield.com/calendar/lhpc-area-tetrathlon
END:VEVENT
BEGIN:VEVENT
DTSTART;VALUE=DATE:20250724
DTEND;VALUE=DATE:20250726
DTSTAMP:20260420T141842
CREATED:20241208T214807Z
LAST-MODIFIED:20241208T214807Z
UID:4603-1753315200-1753487999@www.jowinfield.com
SUMMARY:Hartpury University
DESCRIPTION:
URL:http://www.jowinfield.com/calendar/hartpury-university-112
END:VEVENT
BEGIN:VEVENT
DTSTART;VALUE=DATE:20250731
DTEND;VALUE=DATE:20250802
DTSTAMP:20260420T141842
CREATED:20241208T214832Z
LAST-MODIFIED:20241208T214832Z
UID:4605-1753920000-1754092799@www.jowinfield.com
SUMMARY:Hartpury University
DESCRIPTION:
URL:http://www.jowinfield.com/calendar/hartpury-university-113
END:VEVENT
BEGIN:VEVENT
DTSTART;VALUE=DATE:20250807
DTEND;VALUE=DATE:20250809
DTSTAMP:20260420T141842
CREATED:20241208T214853Z
LAST-MODIFIED:20241208T214853Z
UID:4607-1754524800-1754697599@www.jowinfield.com
SUMMARY:Hartpury University
DESCRIPTION:
URL:http://www.jowinfield.com/calendar/hartpury-university-114
END:VEVENT
BEGIN:VEVENT
DTSTART;VALUE=DATE:20250814
DTEND;VALUE=DATE:20250816
DTSTAMP:20260420T141842
CREATED:20241208T214916Z
LAST-MODIFIED:20241208T214916Z
UID:4609-1755129600-1755302399@www.jowinfield.com
SUMMARY:Hartpury University
DESCRIPTION:
URL:http://www.jowinfield.com/calendar/hartpury-university-115
END:VEVENT
BEGIN:VEVENT
DTSTART;VALUE=DATE:20250814
DTEND;VALUE=DATE:20250816
DTSTAMP:20260420T141842
CREATED:20241208T214952Z
LAST-MODIFIED:20241208T214952Z
UID:4611-1755129600-1755302399@www.jowinfield.com
SUMMARY:Hartpury University
DESCRIPTION:
URL:http://www.jowinfield.com/calendar/hartpury-university-116
END:VEVENT
BEGIN:VEVENT
DTSTART;VALUE=DATE:20250821
DTEND;VALUE=DATE:20250823
DTSTAMP:20260420T141842
CREATED:20241208T215015Z
LAST-MODIFIED:20241208T215015Z
UID:4613-1755734400-1755907199@www.jowinfield.com
SUMMARY:Hartpury University
DESCRIPTION:
URL:http://www.jowinfield.com/calendar/hartpury-university-117
END:VEVENT
BEGIN:VEVENT
DTSTART;VALUE=DATE:20250828
DTEND;VALUE=DATE:20250829
DTSTAMP:20260420T141842
CREATED:20241208T215039Z
LAST-MODIFIED:20241208T215039Z
UID:4615-1756339200-1756425599@www.jowinfield.com
SUMMARY:Hartpury University
DESCRIPTION:
URL:http://www.jowinfield.com/calendar/hartpury-university-118
END:VEVENT
BEGIN:VEVENT
DTSTART;VALUE=DATE:20250829
DTEND;VALUE=DATE:20250901
DTSTAMP:20260420T141842
CREATED:20241208T221649Z
LAST-MODIFIED:20241208T221649Z
UID:4657-1756425600-1756684799@www.jowinfield.com
SUMMARY:Worcester District RC: WDRC Camp at Lincomb
DESCRIPTION:Worcester District RC: WDRC Camp at Lincomb \nContact Chris Rose: chris.m.rose@hotmail.co.uk
URL:http://www.jowinfield.com/calendar/worcester-district-rc-wdrc-camp-at-lincomb
LOCATION:Lincomb XC
END:VEVENT
END:VCALENDAR